BEGIN:VCALENDAR
VERSION:2.0
CALSCALE:GREGORIAN
PRODID:-//Westy92 LLC//NONSGML Checkiday//EN
X-PUBLISHED-TTL:PT12H
X-WR-CALNAME:Checkiday.com - International Mother Earth Day
X-WR-CALDESC:A daily updated list of today's holidays, most of which you wo
 n't find on a calendar! This feed is for personal use only. For other uses
 , please email us at checkiday@checkiday.com.
BEGIN:VEVENT
UID:f6193b45f1c9639245326bc3547970c3-20240422
DTSTAMP:20260421T192621Z
DTSTART;VALUE=DATE:20240422
SUMMARY:International Mother Earth Day
DESCRIPTION:Find more information at https://www.checkiday.com/f6193b45f1c9
 639245326bc3547970c3/international-mother-earth-day?utm_source=ical&utm_me
 dium=website&utm_campaign=none.
URL:https://www.checkiday.com/f6193b45f1c9639245326bc3547970c3/internationa
 l-mother-earth-day?utm_source=ical&utm_medium=website&utm_campaign=none
END:VEVENT
BEGIN:VEVENT
UID:f6193b45f1c9639245326bc3547970c3-20250422
DTSTAMP:20260421T192621Z
DTSTART;VALUE=DATE:20250422
SUMMARY:International Mother Earth Day
DESCRIPTION:Find more information at https://www.checkiday.com/f6193b45f1c9
 639245326bc3547970c3/international-mother-earth-day?utm_source=ical&utm_me
 dium=website&utm_campaign=none.
URL:https://www.checkiday.com/f6193b45f1c9639245326bc3547970c3/internationa
 l-mother-earth-day?utm_source=ical&utm_medium=website&utm_campaign=none
END:VEVENT
BEGIN:VEVENT
UID:f6193b45f1c9639245326bc3547970c3-20260422
DTSTAMP:20260421T192621Z
DTSTART;VALUE=DATE:20260422
SUMMARY:International Mother Earth Day
DESCRIPTION:Find more information at https://www.checkiday.com/f6193b45f1c9
 639245326bc3547970c3/international-mother-earth-day?utm_source=ical&utm_me
 dium=website&utm_campaign=none.
URL:https://www.checkiday.com/f6193b45f1c9639245326bc3547970c3/internationa
 l-mother-earth-day?utm_source=ical&utm_medium=website&utm_campaign=none
END:VEVENT
BEGIN:VEVENT
UID:f6193b45f1c9639245326bc3547970c3-20270422
DTSTAMP:20260421T192621Z
DTSTART;VALUE=DATE:20270422
SUMMARY:International Mother Earth Day
DESCRIPTION:Find more information at https://www.checkiday.com/f6193b45f1c9
 639245326bc3547970c3/international-mother-earth-day?utm_source=ical&utm_me
 dium=website&utm_campaign=none.
URL:https://www.checkiday.com/f6193b45f1c9639245326bc3547970c3/internationa
 l-mother-earth-day?utm_source=ical&utm_medium=website&utm_campaign=none
END:VEVENT
BEGIN:VEVENT
UID:f6193b45f1c9639245326bc3547970c3-20280422
DTSTAMP:20260421T192621Z
DTSTART;VALUE=DATE:20280422
SUMMARY:International Mother Earth Day
DESCRIPTION:Find more information at https://www.checkiday.com/f6193b45f1c9
 639245326bc3547970c3/international-mother-earth-day?utm_source=ical&utm_me
 dium=website&utm_campaign=none.
URL:https://www.checkiday.com/f6193b45f1c9639245326bc3547970c3/internationa
 l-mother-earth-day?utm_source=ical&utm_medium=website&utm_campaign=none
END:VEVENT
END:VCALENDAR
