BEGIN:VCALENDAR
VERSION:2.0
CALSCALE:GREGORIAN
PRODID:-//Westy92 LLC//NONSGML Checkiday//EN
X-PUBLISHED-TTL:PT12H
X-WR-CALNAME:Checkiday.com - National SHIFT10 Day
X-WR-CALDESC:A daily updated list of today's holidays, most of which you wo
 n't find on a calendar! This feed is for personal use only. For other uses
 , please email us at checkiday@checkiday.com.
BEGIN:VEVENT
UID:f25f3158e63abc995013880822c35a95-20241010
DTSTAMP:20260422T085811Z
DTSTART;VALUE=DATE:20241010
SUMMARY:National SHIFT10 Day
DESCRIPTION:Find more information at https://www.checkiday.com/f25f3158e63a
 bc995013880822c35a95/national-shift10-day?utm_source=ical&utm_medium=websi
 te&utm_campaign=none.
URL:https://www.checkiday.com/f25f3158e63abc995013880822c35a95/national-shi
 ft10-day?utm_source=ical&utm_medium=website&utm_campaign=none
END:VEVENT
BEGIN:VEVENT
UID:f25f3158e63abc995013880822c35a95-20251010
DTSTAMP:20260422T085811Z
DTSTART;VALUE=DATE:20251010
SUMMARY:National SHIFT10 Day
DESCRIPTION:Find more information at https://www.checkiday.com/f25f3158e63a
 bc995013880822c35a95/national-shift10-day?utm_source=ical&utm_medium=websi
 te&utm_campaign=none.
URL:https://www.checkiday.com/f25f3158e63abc995013880822c35a95/national-shi
 ft10-day?utm_source=ical&utm_medium=website&utm_campaign=none
END:VEVENT
BEGIN:VEVENT
UID:f25f3158e63abc995013880822c35a95-20261010
DTSTAMP:20260422T085811Z
DTSTART;VALUE=DATE:20261010
SUMMARY:National SHIFT10 Day
DESCRIPTION:Find more information at https://www.checkiday.com/f25f3158e63a
 bc995013880822c35a95/national-shift10-day?utm_source=ical&utm_medium=websi
 te&utm_campaign=none.
URL:https://www.checkiday.com/f25f3158e63abc995013880822c35a95/national-shi
 ft10-day?utm_source=ical&utm_medium=website&utm_campaign=none
END:VEVENT
BEGIN:VEVENT
UID:f25f3158e63abc995013880822c35a95-20271010
DTSTAMP:20260422T085811Z
DTSTART;VALUE=DATE:20271010
SUMMARY:National SHIFT10 Day
DESCRIPTION:Find more information at https://www.checkiday.com/f25f3158e63a
 bc995013880822c35a95/national-shift10-day?utm_source=ical&utm_medium=websi
 te&utm_campaign=none.
URL:https://www.checkiday.com/f25f3158e63abc995013880822c35a95/national-shi
 ft10-day?utm_source=ical&utm_medium=website&utm_campaign=none
END:VEVENT
BEGIN:VEVENT
UID:f25f3158e63abc995013880822c35a95-20281010
DTSTAMP:20260422T085811Z
DTSTART;VALUE=DATE:20281010
SUMMARY:National SHIFT10 Day
DESCRIPTION:Find more information at https://www.checkiday.com/f25f3158e63a
 bc995013880822c35a95/national-shift10-day?utm_source=ical&utm_medium=websi
 te&utm_campaign=none.
URL:https://www.checkiday.com/f25f3158e63abc995013880822c35a95/national-shi
 ft10-day?utm_source=ical&utm_medium=website&utm_campaign=none
END:VEVENT
END:VCALENDAR
