BEGIN:VCALENDAR
VERSION:2.0
CALSCALE:GREGORIAN
PRODID:-//Westy92 LLC//NONSGML Checkiday//EN
X-PUBLISHED-TTL:PT12H
X-WR-CALNAME:Checkiday.com - National Megalodon Day
X-WR-CALDESC:A daily updated list of today's holidays, most of which you wo
 n't find on a calendar! This feed is for personal use only. For other uses
 , please email us at checkiday@checkiday.com.
BEGIN:VEVENT
UID:f1d89d4471910ebbefb0825c0e54fc9c-20240615
DTSTAMP:20260422T022334Z
DTSTART;VALUE=DATE:20240615
SUMMARY:National Megalodon Day
DESCRIPTION:Find more information at https://www.checkiday.com/f1d89d447191
 0ebbefb0825c0e54fc9c/national-megalodon-day?utm_source=ical&utm_medium=web
 site&utm_campaign=none.
URL:https://www.checkiday.com/f1d89d4471910ebbefb0825c0e54fc9c/national-meg
 alodon-day?utm_source=ical&utm_medium=website&utm_campaign=none
END:VEVENT
BEGIN:VEVENT
UID:f1d89d4471910ebbefb0825c0e54fc9c-20250615
DTSTAMP:20260422T022334Z
DTSTART;VALUE=DATE:20250615
SUMMARY:National Megalodon Day
DESCRIPTION:Find more information at https://www.checkiday.com/f1d89d447191
 0ebbefb0825c0e54fc9c/national-megalodon-day?utm_source=ical&utm_medium=web
 site&utm_campaign=none.
URL:https://www.checkiday.com/f1d89d4471910ebbefb0825c0e54fc9c/national-meg
 alodon-day?utm_source=ical&utm_medium=website&utm_campaign=none
END:VEVENT
BEGIN:VEVENT
UID:f1d89d4471910ebbefb0825c0e54fc9c-20260615
DTSTAMP:20260422T022334Z
DTSTART;VALUE=DATE:20260615
SUMMARY:National Megalodon Day
DESCRIPTION:Find more information at https://www.checkiday.com/f1d89d447191
 0ebbefb0825c0e54fc9c/national-megalodon-day?utm_source=ical&utm_medium=web
 site&utm_campaign=none.
URL:https://www.checkiday.com/f1d89d4471910ebbefb0825c0e54fc9c/national-meg
 alodon-day?utm_source=ical&utm_medium=website&utm_campaign=none
END:VEVENT
BEGIN:VEVENT
UID:f1d89d4471910ebbefb0825c0e54fc9c-20270615
DTSTAMP:20260422T022334Z
DTSTART;VALUE=DATE:20270615
SUMMARY:National Megalodon Day
DESCRIPTION:Find more information at https://www.checkiday.com/f1d89d447191
 0ebbefb0825c0e54fc9c/national-megalodon-day?utm_source=ical&utm_medium=web
 site&utm_campaign=none.
URL:https://www.checkiday.com/f1d89d4471910ebbefb0825c0e54fc9c/national-meg
 alodon-day?utm_source=ical&utm_medium=website&utm_campaign=none
END:VEVENT
BEGIN:VEVENT
UID:f1d89d4471910ebbefb0825c0e54fc9c-20280615
DTSTAMP:20260422T022334Z
DTSTART;VALUE=DATE:20280615
SUMMARY:National Megalodon Day
DESCRIPTION:Find more information at https://www.checkiday.com/f1d89d447191
 0ebbefb0825c0e54fc9c/national-megalodon-day?utm_source=ical&utm_medium=web
 site&utm_campaign=none.
URL:https://www.checkiday.com/f1d89d4471910ebbefb0825c0e54fc9c/national-meg
 alodon-day?utm_source=ical&utm_medium=website&utm_campaign=none
END:VEVENT
END:VCALENDAR
