BEGIN:VCALENDAR
VERSION:2.0
CALSCALE:GREGORIAN
PRODID:-//Westy92 LLC//NONSGML Checkiday//EN
X-PUBLISHED-TTL:PT12H
X-WR-CALNAME:Checkiday.com - International Skinny Dip Day
X-WR-CALDESC:A daily updated list of today's holidays, most of which you wo
 n't find on a calendar! This feed is for personal use only. For other uses
 , please email us at checkiday@checkiday.com.
BEGIN:VEVENT
UID:f1b42ed4778dd7f222d0bcfd3f51c392-20240713
DTSTAMP:20260421T161917Z
DTSTART;VALUE=DATE:20240713
SUMMARY:International Skinny Dip Day
DESCRIPTION:Find more information at https://www.checkiday.com/f1b42ed4778d
 d7f222d0bcfd3f51c392/international-skinny-dip-day?utm_source=ical&utm_medi
 um=website&utm_campaign=none.
URL:https://www.checkiday.com/f1b42ed4778dd7f222d0bcfd3f51c392/internationa
 l-skinny-dip-day?utm_source=ical&utm_medium=website&utm_campaign=none
END:VEVENT
BEGIN:VEVENT
UID:f1b42ed4778dd7f222d0bcfd3f51c392-20250712
DTSTAMP:20260421T161917Z
DTSTART;VALUE=DATE:20250712
SUMMARY:International Skinny Dip Day
DESCRIPTION:Find more information at https://www.checkiday.com/f1b42ed4778d
 d7f222d0bcfd3f51c392/international-skinny-dip-day?utm_source=ical&utm_medi
 um=website&utm_campaign=none.
URL:https://www.checkiday.com/f1b42ed4778dd7f222d0bcfd3f51c392/internationa
 l-skinny-dip-day?utm_source=ical&utm_medium=website&utm_campaign=none
END:VEVENT
BEGIN:VEVENT
UID:f1b42ed4778dd7f222d0bcfd3f51c392-20260711
DTSTAMP:20260421T161917Z
DTSTART;VALUE=DATE:20260711
SUMMARY:International Skinny Dip Day
DESCRIPTION:Find more information at https://www.checkiday.com/f1b42ed4778d
 d7f222d0bcfd3f51c392/international-skinny-dip-day?utm_source=ical&utm_medi
 um=website&utm_campaign=none.
URL:https://www.checkiday.com/f1b42ed4778dd7f222d0bcfd3f51c392/internationa
 l-skinny-dip-day?utm_source=ical&utm_medium=website&utm_campaign=none
END:VEVENT
BEGIN:VEVENT
UID:f1b42ed4778dd7f222d0bcfd3f51c392-20270710
DTSTAMP:20260421T161917Z
DTSTART;VALUE=DATE:20270710
SUMMARY:International Skinny Dip Day
DESCRIPTION:Find more information at https://www.checkiday.com/f1b42ed4778d
 d7f222d0bcfd3f51c392/international-skinny-dip-day?utm_source=ical&utm_medi
 um=website&utm_campaign=none.
URL:https://www.checkiday.com/f1b42ed4778dd7f222d0bcfd3f51c392/internationa
 l-skinny-dip-day?utm_source=ical&utm_medium=website&utm_campaign=none
END:VEVENT
BEGIN:VEVENT
UID:f1b42ed4778dd7f222d0bcfd3f51c392-20280708
DTSTAMP:20260421T161917Z
DTSTART;VALUE=DATE:20280708
SUMMARY:International Skinny Dip Day
DESCRIPTION:Find more information at https://www.checkiday.com/f1b42ed4778d
 d7f222d0bcfd3f51c392/international-skinny-dip-day?utm_source=ical&utm_medi
 um=website&utm_campaign=none.
URL:https://www.checkiday.com/f1b42ed4778dd7f222d0bcfd3f51c392/internationa
 l-skinny-dip-day?utm_source=ical&utm_medium=website&utm_campaign=none
END:VEVENT
END:VCALENDAR
