BEGIN:VCALENDAR
VERSION:2.0
CALSCALE:GREGORIAN
PRODID:-//Westy92 LLC//NONSGML Checkiday//EN
X-PUBLISHED-TTL:PT12H
X-WR-CALNAME:Checkiday.com - International Day to End Violence Against Sex 
 Workers
X-WR-CALDESC:A daily updated list of today's holidays, most of which you wo
 n't find on a calendar! This feed is for personal use only. For other uses
 , please email us at checkiday@checkiday.com.
BEGIN:VEVENT
UID:e81f0bacbc0be86f7f152a18322d97bf-20241217
DTSTAMP:20260419T123906Z
DTSTART;VALUE=DATE:20241217
SUMMARY:International Day to End Violence Against Sex Workers
DESCRIPTION:Find more information at https://www.checkiday.com/e81f0bacbc0b
 e86f7f152a18322d97bf/international-day-to-end-violence-against-sex-workers
 ?utm_source=ical&utm_medium=website&utm_campaign=none.
URL:https://www.checkiday.com/e81f0bacbc0be86f7f152a18322d97bf/internationa
 l-day-to-end-violence-against-sex-workers?utm_source=ical&utm_medium=websi
 te&utm_campaign=none
END:VEVENT
BEGIN:VEVENT
UID:e81f0bacbc0be86f7f152a18322d97bf-20251217
DTSTAMP:20260419T123906Z
DTSTART;VALUE=DATE:20251217
SUMMARY:International Day to End Violence Against Sex Workers
DESCRIPTION:Find more information at https://www.checkiday.com/e81f0bacbc0b
 e86f7f152a18322d97bf/international-day-to-end-violence-against-sex-workers
 ?utm_source=ical&utm_medium=website&utm_campaign=none.
URL:https://www.checkiday.com/e81f0bacbc0be86f7f152a18322d97bf/internationa
 l-day-to-end-violence-against-sex-workers?utm_source=ical&utm_medium=websi
 te&utm_campaign=none
END:VEVENT
BEGIN:VEVENT
UID:e81f0bacbc0be86f7f152a18322d97bf-20261217
DTSTAMP:20260419T123906Z
DTSTART;VALUE=DATE:20261217
SUMMARY:International Day to End Violence Against Sex Workers
DESCRIPTION:Find more information at https://www.checkiday.com/e81f0bacbc0b
 e86f7f152a18322d97bf/international-day-to-end-violence-against-sex-workers
 ?utm_source=ical&utm_medium=website&utm_campaign=none.
URL:https://www.checkiday.com/e81f0bacbc0be86f7f152a18322d97bf/internationa
 l-day-to-end-violence-against-sex-workers?utm_source=ical&utm_medium=websi
 te&utm_campaign=none
END:VEVENT
BEGIN:VEVENT
UID:e81f0bacbc0be86f7f152a18322d97bf-20271217
DTSTAMP:20260419T123906Z
DTSTART;VALUE=DATE:20271217
SUMMARY:International Day to End Violence Against Sex Workers
DESCRIPTION:Find more information at https://www.checkiday.com/e81f0bacbc0b
 e86f7f152a18322d97bf/international-day-to-end-violence-against-sex-workers
 ?utm_source=ical&utm_medium=website&utm_campaign=none.
URL:https://www.checkiday.com/e81f0bacbc0be86f7f152a18322d97bf/internationa
 l-day-to-end-violence-against-sex-workers?utm_source=ical&utm_medium=websi
 te&utm_campaign=none
END:VEVENT
BEGIN:VEVENT
UID:e81f0bacbc0be86f7f152a18322d97bf-20281217
DTSTAMP:20260419T123906Z
DTSTART;VALUE=DATE:20281217
SUMMARY:International Day to End Violence Against Sex Workers
DESCRIPTION:Find more information at https://www.checkiday.com/e81f0bacbc0b
 e86f7f152a18322d97bf/international-day-to-end-violence-against-sex-workers
 ?utm_source=ical&utm_medium=website&utm_campaign=none.
URL:https://www.checkiday.com/e81f0bacbc0be86f7f152a18322d97bf/internationa
 l-day-to-end-violence-against-sex-workers?utm_source=ical&utm_medium=websi
 te&utm_campaign=none
END:VEVENT
END:VCALENDAR
