BEGIN:VCALENDAR
VERSION:2.0
CALSCALE:GREGORIAN
PRODID:-//Westy92 LLC//NONSGML Checkiday//EN
X-PUBLISHED-TTL:PT12H
X-WR-CALNAME:Checkiday.com - World Elder Abuse Awareness Day
X-WR-CALDESC:A daily updated list of today's holidays, most of which you wo
 n't find on a calendar! This feed is for personal use only. For other uses
 , please email us at checkiday@checkiday.com.
BEGIN:VEVENT
UID:e0f558fff38eabc43433b0b0fb203953-20240615
DTSTAMP:20260419T214351Z
DTSTART;VALUE=DATE:20240615
SUMMARY:World Elder Abuse Awareness Day
DESCRIPTION:Find more information at https://www.checkiday.com/e0f558fff38e
 abc43433b0b0fb203953/world-elder-abuse-awareness-day?utm_source=ical&utm_m
 edium=website&utm_campaign=none.
URL:https://www.checkiday.com/e0f558fff38eabc43433b0b0fb203953/world-elder-
 abuse-awareness-day?utm_source=ical&utm_medium=website&utm_campaign=none
END:VEVENT
BEGIN:VEVENT
UID:e0f558fff38eabc43433b0b0fb203953-20250615
DTSTAMP:20260419T214351Z
DTSTART;VALUE=DATE:20250615
SUMMARY:World Elder Abuse Awareness Day
DESCRIPTION:Find more information at https://www.checkiday.com/e0f558fff38e
 abc43433b0b0fb203953/world-elder-abuse-awareness-day?utm_source=ical&utm_m
 edium=website&utm_campaign=none.
URL:https://www.checkiday.com/e0f558fff38eabc43433b0b0fb203953/world-elder-
 abuse-awareness-day?utm_source=ical&utm_medium=website&utm_campaign=none
END:VEVENT
BEGIN:VEVENT
UID:e0f558fff38eabc43433b0b0fb203953-20260615
DTSTAMP:20260419T214351Z
DTSTART;VALUE=DATE:20260615
SUMMARY:World Elder Abuse Awareness Day
DESCRIPTION:Find more information at https://www.checkiday.com/e0f558fff38e
 abc43433b0b0fb203953/world-elder-abuse-awareness-day?utm_source=ical&utm_m
 edium=website&utm_campaign=none.
URL:https://www.checkiday.com/e0f558fff38eabc43433b0b0fb203953/world-elder-
 abuse-awareness-day?utm_source=ical&utm_medium=website&utm_campaign=none
END:VEVENT
BEGIN:VEVENT
UID:e0f558fff38eabc43433b0b0fb203953-20270615
DTSTAMP:20260419T214351Z
DTSTART;VALUE=DATE:20270615
SUMMARY:World Elder Abuse Awareness Day
DESCRIPTION:Find more information at https://www.checkiday.com/e0f558fff38e
 abc43433b0b0fb203953/world-elder-abuse-awareness-day?utm_source=ical&utm_m
 edium=website&utm_campaign=none.
URL:https://www.checkiday.com/e0f558fff38eabc43433b0b0fb203953/world-elder-
 abuse-awareness-day?utm_source=ical&utm_medium=website&utm_campaign=none
END:VEVENT
BEGIN:VEVENT
UID:e0f558fff38eabc43433b0b0fb203953-20280615
DTSTAMP:20260419T214351Z
DTSTART;VALUE=DATE:20280615
SUMMARY:World Elder Abuse Awareness Day
DESCRIPTION:Find more information at https://www.checkiday.com/e0f558fff38e
 abc43433b0b0fb203953/world-elder-abuse-awareness-day?utm_source=ical&utm_m
 edium=website&utm_campaign=none.
URL:https://www.checkiday.com/e0f558fff38eabc43433b0b0fb203953/world-elder-
 abuse-awareness-day?utm_source=ical&utm_medium=website&utm_campaign=none
END:VEVENT
END:VCALENDAR
