BEGIN:VCALENDAR
VERSION:2.0
CALSCALE:GREGORIAN
PRODID:-//Westy92 LLC//NONSGML Checkiday//EN
X-PUBLISHED-TTL:PT12H
X-WR-CALNAME:Checkiday.com - Donald Duck Day
X-WR-CALDESC:A daily updated list of today's holidays, most of which you wo
 n't find on a calendar! This feed is for personal use only. For other uses
 , please email us at checkiday@checkiday.com.
BEGIN:VEVENT
UID:da4253076ba1453991e3e789c7cfe6b5-20240609
DTSTAMP:20260420T081549Z
DTSTART;VALUE=DATE:20240609
SUMMARY:Donald Duck Day
DESCRIPTION:Find more information at https://www.checkiday.com/da4253076ba1
 453991e3e789c7cfe6b5/donald-duck-day?utm_source=ical&utm_medium=website&ut
 m_campaign=none.
URL:https://www.checkiday.com/da4253076ba1453991e3e789c7cfe6b5/donald-duck-
 day?utm_source=ical&utm_medium=website&utm_campaign=none
END:VEVENT
BEGIN:VEVENT
UID:da4253076ba1453991e3e789c7cfe6b5-20250609
DTSTAMP:20260420T081549Z
DTSTART;VALUE=DATE:20250609
SUMMARY:Donald Duck Day
DESCRIPTION:Find more information at https://www.checkiday.com/da4253076ba1
 453991e3e789c7cfe6b5/donald-duck-day?utm_source=ical&utm_medium=website&ut
 m_campaign=none.
URL:https://www.checkiday.com/da4253076ba1453991e3e789c7cfe6b5/donald-duck-
 day?utm_source=ical&utm_medium=website&utm_campaign=none
END:VEVENT
BEGIN:VEVENT
UID:da4253076ba1453991e3e789c7cfe6b5-20260609
DTSTAMP:20260420T081549Z
DTSTART;VALUE=DATE:20260609
SUMMARY:Donald Duck Day
DESCRIPTION:Find more information at https://www.checkiday.com/da4253076ba1
 453991e3e789c7cfe6b5/donald-duck-day?utm_source=ical&utm_medium=website&ut
 m_campaign=none.
URL:https://www.checkiday.com/da4253076ba1453991e3e789c7cfe6b5/donald-duck-
 day?utm_source=ical&utm_medium=website&utm_campaign=none
END:VEVENT
BEGIN:VEVENT
UID:da4253076ba1453991e3e789c7cfe6b5-20270609
DTSTAMP:20260420T081549Z
DTSTART;VALUE=DATE:20270609
SUMMARY:Donald Duck Day
DESCRIPTION:Find more information at https://www.checkiday.com/da4253076ba1
 453991e3e789c7cfe6b5/donald-duck-day?utm_source=ical&utm_medium=website&ut
 m_campaign=none.
URL:https://www.checkiday.com/da4253076ba1453991e3e789c7cfe6b5/donald-duck-
 day?utm_source=ical&utm_medium=website&utm_campaign=none
END:VEVENT
BEGIN:VEVENT
UID:da4253076ba1453991e3e789c7cfe6b5-20280609
DTSTAMP:20260420T081549Z
DTSTART;VALUE=DATE:20280609
SUMMARY:Donald Duck Day
DESCRIPTION:Find more information at https://www.checkiday.com/da4253076ba1
 453991e3e789c7cfe6b5/donald-duck-day?utm_source=ical&utm_medium=website&ut
 m_campaign=none.
URL:https://www.checkiday.com/da4253076ba1453991e3e789c7cfe6b5/donald-duck-
 day?utm_source=ical&utm_medium=website&utm_campaign=none
END:VEVENT
END:VCALENDAR
