BEGIN:VCALENDAR
VERSION:2.0
CALSCALE:GREGORIAN
PRODID:-//Westy92 LLC//NONSGML Checkiday//EN
X-PUBLISHED-TTL:PT12H
X-WR-CALNAME:Checkiday.com - International Year of Volunteers for Sustainab
 le Development
X-WR-CALDESC:A daily updated list of today's holidays, most of which you wo
 n't find on a calendar! This feed is for personal use only. For other uses
 , please email us at checkiday@checkiday.com.
BEGIN:VEVENT
UID:c3ad61ad0a64c13c06a51d9930139e7f-20260101
DTSTAMP:20260420T021754Z
DTSTART;VALUE=DATE:20260101
DTEND;VALUE=DATE:20261231
SUMMARY:International Year of Volunteers for Sustainable Development
DESCRIPTION:Find more information at https://www.checkiday.com/c3ad61ad0a64
 c13c06a51d9930139e7f/international-year-of-volunteers-for-sustainable-deve
 lopment?utm_source=ical&utm_medium=website&utm_campaign=none.
URL:https://www.checkiday.com/c3ad61ad0a64c13c06a51d9930139e7f/internationa
 l-year-of-volunteers-for-sustainable-development?utm_source=ical&utm_mediu
 m=website&utm_campaign=none
END:VEVENT
END:VCALENDAR
