BEGIN:VCALENDAR
VERSION:2.0
CALSCALE:GREGORIAN
PRODID:-//Westy92 LLC//NONSGML Checkiday//EN
X-PUBLISHED-TTL:PT12H
X-WR-CALNAME:Checkiday.com - Second International Decade for People of Afri
 can Descent
X-WR-CALDESC:A daily updated list of today's holidays, most of which you wo
 n't find on a calendar! This feed is for personal use only. For other uses
 , please email us at checkiday@checkiday.com.
BEGIN:VEVENT
UID:bb468b4c29d796fccaf6bd2da0857860-20250101
DTSTAMP:20260420T021955Z
DTSTART;VALUE=DATE:20250101
DTEND;VALUE=DATE:20341231
SUMMARY:Second International Decade for People of African Descent
DESCRIPTION:Find more information at https://www.checkiday.com/bb468b4c29d7
 96fccaf6bd2da0857860/second-international-decade-for-people-of-african-des
 cent?utm_source=ical&utm_medium=website&utm_campaign=none.
URL:https://www.checkiday.com/bb468b4c29d796fccaf6bd2da0857860/second-inter
 national-decade-for-people-of-african-descent?utm_source=ical&utm_medium=w
 ebsite&utm_campaign=none
END:VEVENT
END:VCALENDAR
