BEGIN:VCALENDAR
VERSION:2.0
CALSCALE:GREGORIAN
PRODID:-//Westy92 LLC//NONSGML Checkiday//EN
X-PUBLISHED-TTL:PT12H
X-WR-CALNAME:Checkiday.com - Play-the-Recorder Day
X-WR-CALDESC:A daily updated list of today's holidays, most of which you wo
 n't find on a calendar! This feed is for personal use only. For other uses
 , please email us at checkiday@checkiday.com.
BEGIN:VEVENT
UID:b8350d481daeabaa7f558cc032544ef3-20240316
DTSTAMP:20260420T143610Z
DTSTART;VALUE=DATE:20240316
SUMMARY:Play-the-Recorder Day
DESCRIPTION:Find more information at https://www.checkiday.com/b8350d481dae
 abaa7f558cc032544ef3/play-the-recorder-day?utm_source=ical&utm_medium=webs
 ite&utm_campaign=none.
URL:https://www.checkiday.com/b8350d481daeabaa7f558cc032544ef3/play-the-rec
 order-day?utm_source=ical&utm_medium=website&utm_campaign=none
END:VEVENT
BEGIN:VEVENT
UID:b8350d481daeabaa7f558cc032544ef3-20250315
DTSTAMP:20260420T143610Z
DTSTART;VALUE=DATE:20250315
SUMMARY:Play-the-Recorder Day
DESCRIPTION:Find more information at https://www.checkiday.com/b8350d481dae
 abaa7f558cc032544ef3/play-the-recorder-day?utm_source=ical&utm_medium=webs
 ite&utm_campaign=none.
URL:https://www.checkiday.com/b8350d481daeabaa7f558cc032544ef3/play-the-rec
 order-day?utm_source=ical&utm_medium=website&utm_campaign=none
END:VEVENT
BEGIN:VEVENT
UID:b8350d481daeabaa7f558cc032544ef3-20260321
DTSTAMP:20260420T143610Z
DTSTART;VALUE=DATE:20260321
SUMMARY:Play-the-Recorder Day
DESCRIPTION:Find more information at https://www.checkiday.com/b8350d481dae
 abaa7f558cc032544ef3/play-the-recorder-day?utm_source=ical&utm_medium=webs
 ite&utm_campaign=none.
URL:https://www.checkiday.com/b8350d481daeabaa7f558cc032544ef3/play-the-rec
 order-day?utm_source=ical&utm_medium=website&utm_campaign=none
END:VEVENT
BEGIN:VEVENT
UID:b8350d481daeabaa7f558cc032544ef3-20270320
DTSTAMP:20260420T143610Z
DTSTART;VALUE=DATE:20270320
SUMMARY:Play-the-Recorder Day
DESCRIPTION:Find more information at https://www.checkiday.com/b8350d481dae
 abaa7f558cc032544ef3/play-the-recorder-day?utm_source=ical&utm_medium=webs
 ite&utm_campaign=none.
URL:https://www.checkiday.com/b8350d481daeabaa7f558cc032544ef3/play-the-rec
 order-day?utm_source=ical&utm_medium=website&utm_campaign=none
END:VEVENT
BEGIN:VEVENT
UID:b8350d481daeabaa7f558cc032544ef3-20280318
DTSTAMP:20260420T143610Z
DTSTART;VALUE=DATE:20280318
SUMMARY:Play-the-Recorder Day
DESCRIPTION:Find more information at https://www.checkiday.com/b8350d481dae
 abaa7f558cc032544ef3/play-the-recorder-day?utm_source=ical&utm_medium=webs
 ite&utm_campaign=none.
URL:https://www.checkiday.com/b8350d481daeabaa7f558cc032544ef3/play-the-rec
 order-day?utm_source=ical&utm_medium=website&utm_campaign=none
END:VEVENT
END:VCALENDAR
