BEGIN:VCALENDAR
VERSION:2.0
CALSCALE:GREGORIAN
PRODID:-//Westy92 LLC//NONSGML Checkiday//EN
X-PUBLISHED-TTL:PT12H
X-WR-CALNAME:Checkiday.com - National Wear a Jockstrap to Work Day
X-WR-CALDESC:A daily updated list of today's holidays, most of which you wo
 n't find on a calendar! This feed is for personal use only. For other uses
 , please email us at checkiday@checkiday.com.
BEGIN:VEVENT
UID:aa76b4fec7070b2d328bd837e09ac8b3-20240607
DTSTAMP:20260425T155758Z
DTSTART;VALUE=DATE:20240607
SUMMARY:National Wear a Jockstrap to Work Day
DESCRIPTION:Find more information at https://www.checkiday.com/aa76b4fec707
 0b2d328bd837e09ac8b3/national-wear-a-jockstrap-to-work-day?utm_source=ical
 &utm_medium=website&utm_campaign=none.
URL:https://www.checkiday.com/aa76b4fec7070b2d328bd837e09ac8b3/national-wea
 r-a-jockstrap-to-work-day?utm_source=ical&utm_medium=website&utm_campaign=
 none
END:VEVENT
BEGIN:VEVENT
UID:aa76b4fec7070b2d328bd837e09ac8b3-20250606
DTSTAMP:20260425T155758Z
DTSTART;VALUE=DATE:20250606
SUMMARY:National Wear a Jockstrap to Work Day
DESCRIPTION:Find more information at https://www.checkiday.com/aa76b4fec707
 0b2d328bd837e09ac8b3/national-wear-a-jockstrap-to-work-day?utm_source=ical
 &utm_medium=website&utm_campaign=none.
URL:https://www.checkiday.com/aa76b4fec7070b2d328bd837e09ac8b3/national-wea
 r-a-jockstrap-to-work-day?utm_source=ical&utm_medium=website&utm_campaign=
 none
END:VEVENT
BEGIN:VEVENT
UID:aa76b4fec7070b2d328bd837e09ac8b3-20260605
DTSTAMP:20260425T155758Z
DTSTART;VALUE=DATE:20260605
SUMMARY:National Wear a Jockstrap to Work Day
DESCRIPTION:Find more information at https://www.checkiday.com/aa76b4fec707
 0b2d328bd837e09ac8b3/national-wear-a-jockstrap-to-work-day?utm_source=ical
 &utm_medium=website&utm_campaign=none.
URL:https://www.checkiday.com/aa76b4fec7070b2d328bd837e09ac8b3/national-wea
 r-a-jockstrap-to-work-day?utm_source=ical&utm_medium=website&utm_campaign=
 none
END:VEVENT
BEGIN:VEVENT
UID:aa76b4fec7070b2d328bd837e09ac8b3-20270604
DTSTAMP:20260425T155758Z
DTSTART;VALUE=DATE:20270604
SUMMARY:National Wear a Jockstrap to Work Day
DESCRIPTION:Find more information at https://www.checkiday.com/aa76b4fec707
 0b2d328bd837e09ac8b3/national-wear-a-jockstrap-to-work-day?utm_source=ical
 &utm_medium=website&utm_campaign=none.
URL:https://www.checkiday.com/aa76b4fec7070b2d328bd837e09ac8b3/national-wea
 r-a-jockstrap-to-work-day?utm_source=ical&utm_medium=website&utm_campaign=
 none
END:VEVENT
BEGIN:VEVENT
UID:aa76b4fec7070b2d328bd837e09ac8b3-20280602
DTSTAMP:20260425T155758Z
DTSTART;VALUE=DATE:20280602
SUMMARY:National Wear a Jockstrap to Work Day
DESCRIPTION:Find more information at https://www.checkiday.com/aa76b4fec707
 0b2d328bd837e09ac8b3/national-wear-a-jockstrap-to-work-day?utm_source=ical
 &utm_medium=website&utm_campaign=none.
URL:https://www.checkiday.com/aa76b4fec7070b2d328bd837e09ac8b3/national-wea
 r-a-jockstrap-to-work-day?utm_source=ical&utm_medium=website&utm_campaign=
 none
END:VEVENT
END:VCALENDAR
