BEGIN:VCALENDAR
VERSION:2.0
CALSCALE:GREGORIAN
PRODID:-//Westy92 LLC//NONSGML Checkiday//EN
X-PUBLISHED-TTL:PT12H
X-WR-CALNAME:Checkiday.com - National Police Community Cooperative Day
X-WR-CALDESC:A daily updated list of today's holidays, most of which you wo
 n't find on a calendar! This feed is for personal use only. For other uses
 , please email us at checkiday@checkiday.com.
BEGIN:VEVENT
UID:a799342513bdec8dc43f750ac85b85a3-20240625
DTSTAMP:20260422T082434Z
DTSTART;VALUE=DATE:20240625
SUMMARY:National Police Community Cooperative Day
DESCRIPTION:Find more information at https://www.checkiday.com/a799342513bd
 ec8dc43f750ac85b85a3/national-police-community-cooperative-day?utm_source=
 ical&utm_medium=website&utm_campaign=none.
URL:https://www.checkiday.com/a799342513bdec8dc43f750ac85b85a3/national-pol
 ice-community-cooperative-day?utm_source=ical&utm_medium=website&utm_campa
 ign=none
END:VEVENT
BEGIN:VEVENT
UID:a799342513bdec8dc43f750ac85b85a3-20250625
DTSTAMP:20260422T082434Z
DTSTART;VALUE=DATE:20250625
SUMMARY:National Police Community Cooperative Day
DESCRIPTION:Find more information at https://www.checkiday.com/a799342513bd
 ec8dc43f750ac85b85a3/national-police-community-cooperative-day?utm_source=
 ical&utm_medium=website&utm_campaign=none.
URL:https://www.checkiday.com/a799342513bdec8dc43f750ac85b85a3/national-pol
 ice-community-cooperative-day?utm_source=ical&utm_medium=website&utm_campa
 ign=none
END:VEVENT
BEGIN:VEVENT
UID:a799342513bdec8dc43f750ac85b85a3-20260625
DTSTAMP:20260422T082434Z
DTSTART;VALUE=DATE:20260625
SUMMARY:National Police Community Cooperative Day
DESCRIPTION:Find more information at https://www.checkiday.com/a799342513bd
 ec8dc43f750ac85b85a3/national-police-community-cooperative-day?utm_source=
 ical&utm_medium=website&utm_campaign=none.
URL:https://www.checkiday.com/a799342513bdec8dc43f750ac85b85a3/national-pol
 ice-community-cooperative-day?utm_source=ical&utm_medium=website&utm_campa
 ign=none
END:VEVENT
BEGIN:VEVENT
UID:a799342513bdec8dc43f750ac85b85a3-20270625
DTSTAMP:20260422T082434Z
DTSTART;VALUE=DATE:20270625
SUMMARY:National Police Community Cooperative Day
DESCRIPTION:Find more information at https://www.checkiday.com/a799342513bd
 ec8dc43f750ac85b85a3/national-police-community-cooperative-day?utm_source=
 ical&utm_medium=website&utm_campaign=none.
URL:https://www.checkiday.com/a799342513bdec8dc43f750ac85b85a3/national-pol
 ice-community-cooperative-day?utm_source=ical&utm_medium=website&utm_campa
 ign=none
END:VEVENT
BEGIN:VEVENT
UID:a799342513bdec8dc43f750ac85b85a3-20280625
DTSTAMP:20260422T082434Z
DTSTART;VALUE=DATE:20280625
SUMMARY:National Police Community Cooperative Day
DESCRIPTION:Find more information at https://www.checkiday.com/a799342513bd
 ec8dc43f750ac85b85a3/national-police-community-cooperative-day?utm_source=
 ical&utm_medium=website&utm_campaign=none.
URL:https://www.checkiday.com/a799342513bdec8dc43f750ac85b85a3/national-pol
 ice-community-cooperative-day?utm_source=ical&utm_medium=website&utm_campa
 ign=none
END:VEVENT
END:VCALENDAR
