BEGIN:VCALENDAR
VERSION:2.0
CALSCALE:GREGORIAN
PRODID:-//Westy92 LLC//NONSGML Checkiday//EN
X-PUBLISHED-TTL:PT12H
X-WR-CALNAME:Checkiday.com - International Independent Video Store Day
X-WR-CALDESC:A daily updated list of today's holidays, most of which you wo
 n't find on a calendar! This feed is for personal use only. For other uses
 , please email us at checkiday@checkiday.com.
BEGIN:VEVENT
UID:9a0b21f06d35b8d435ce065ce852c183-20241019
DTSTAMP:20260421T190704Z
DTSTART;VALUE=DATE:20241019
SUMMARY:International Independent Video Store Day
DESCRIPTION:Find more information at https://www.checkiday.com/9a0b21f06d35
 b8d435ce065ce852c183/international-independent-video-store-day?utm_source=
 ical&utm_medium=website&utm_campaign=none.
URL:https://www.checkiday.com/9a0b21f06d35b8d435ce065ce852c183/internationa
 l-independent-video-store-day?utm_source=ical&utm_medium=website&utm_campa
 ign=none
END:VEVENT
BEGIN:VEVENT
UID:9a0b21f06d35b8d435ce065ce852c183-20251018
DTSTAMP:20260421T190704Z
DTSTART;VALUE=DATE:20251018
SUMMARY:International Independent Video Store Day
DESCRIPTION:Find more information at https://www.checkiday.com/9a0b21f06d35
 b8d435ce065ce852c183/international-independent-video-store-day?utm_source=
 ical&utm_medium=website&utm_campaign=none.
URL:https://www.checkiday.com/9a0b21f06d35b8d435ce065ce852c183/internationa
 l-independent-video-store-day?utm_source=ical&utm_medium=website&utm_campa
 ign=none
END:VEVENT
BEGIN:VEVENT
UID:9a0b21f06d35b8d435ce065ce852c183-20261017
DTSTAMP:20260421T190704Z
DTSTART;VALUE=DATE:20261017
SUMMARY:International Independent Video Store Day
DESCRIPTION:Find more information at https://www.checkiday.com/9a0b21f06d35
 b8d435ce065ce852c183/international-independent-video-store-day?utm_source=
 ical&utm_medium=website&utm_campaign=none.
URL:https://www.checkiday.com/9a0b21f06d35b8d435ce065ce852c183/internationa
 l-independent-video-store-day?utm_source=ical&utm_medium=website&utm_campa
 ign=none
END:VEVENT
BEGIN:VEVENT
UID:9a0b21f06d35b8d435ce065ce852c183-20271016
DTSTAMP:20260421T190704Z
DTSTART;VALUE=DATE:20271016
SUMMARY:International Independent Video Store Day
DESCRIPTION:Find more information at https://www.checkiday.com/9a0b21f06d35
 b8d435ce065ce852c183/international-independent-video-store-day?utm_source=
 ical&utm_medium=website&utm_campaign=none.
URL:https://www.checkiday.com/9a0b21f06d35b8d435ce065ce852c183/internationa
 l-independent-video-store-day?utm_source=ical&utm_medium=website&utm_campa
 ign=none
END:VEVENT
BEGIN:VEVENT
UID:9a0b21f06d35b8d435ce065ce852c183-20281021
DTSTAMP:20260421T190704Z
DTSTART;VALUE=DATE:20281021
SUMMARY:International Independent Video Store Day
DESCRIPTION:Find more information at https://www.checkiday.com/9a0b21f06d35
 b8d435ce065ce852c183/international-independent-video-store-day?utm_source=
 ical&utm_medium=website&utm_campaign=none.
URL:https://www.checkiday.com/9a0b21f06d35b8d435ce065ce852c183/internationa
 l-independent-video-store-day?utm_source=ical&utm_medium=website&utm_campa
 ign=none
END:VEVENT
END:VCALENDAR
