BEGIN:VCALENDAR
VERSION:2.0
CALSCALE:GREGORIAN
PRODID:-//Westy92 LLC//NONSGML Checkiday//EN
X-PUBLISHED-TTL:PT12H
X-WR-CALNAME:Checkiday.com - National Wanna Get Away Day
X-WR-CALDESC:A daily updated list of today's holidays, most of which you wo
 n't find on a calendar! This feed is for personal use only. For other uses
 , please email us at checkiday@checkiday.com.
BEGIN:VEVENT
UID:931a41b31778f86658742f79c00c4655-20240618
DTSTAMP:20260419T173042Z
DTSTART;VALUE=DATE:20240618
SUMMARY:National Wanna Get Away Day
DESCRIPTION:Find more information at https://www.checkiday.com/931a41b31778
 f86658742f79c00c4655/national-wanna-get-away-day?utm_source=ical&utm_mediu
 m=website&utm_campaign=none.
URL:https://www.checkiday.com/931a41b31778f86658742f79c00c4655/national-wan
 na-get-away-day?utm_source=ical&utm_medium=website&utm_campaign=none
END:VEVENT
BEGIN:VEVENT
UID:931a41b31778f86658742f79c00c4655-20250618
DTSTAMP:20260419T173042Z
DTSTART;VALUE=DATE:20250618
SUMMARY:National Wanna Get Away Day
DESCRIPTION:Find more information at https://www.checkiday.com/931a41b31778
 f86658742f79c00c4655/national-wanna-get-away-day?utm_source=ical&utm_mediu
 m=website&utm_campaign=none.
URL:https://www.checkiday.com/931a41b31778f86658742f79c00c4655/national-wan
 na-get-away-day?utm_source=ical&utm_medium=website&utm_campaign=none
END:VEVENT
BEGIN:VEVENT
UID:931a41b31778f86658742f79c00c4655-20260618
DTSTAMP:20260419T173042Z
DTSTART;VALUE=DATE:20260618
SUMMARY:National Wanna Get Away Day
DESCRIPTION:Find more information at https://www.checkiday.com/931a41b31778
 f86658742f79c00c4655/national-wanna-get-away-day?utm_source=ical&utm_mediu
 m=website&utm_campaign=none.
URL:https://www.checkiday.com/931a41b31778f86658742f79c00c4655/national-wan
 na-get-away-day?utm_source=ical&utm_medium=website&utm_campaign=none
END:VEVENT
BEGIN:VEVENT
UID:931a41b31778f86658742f79c00c4655-20270618
DTSTAMP:20260419T173042Z
DTSTART;VALUE=DATE:20270618
SUMMARY:National Wanna Get Away Day
DESCRIPTION:Find more information at https://www.checkiday.com/931a41b31778
 f86658742f79c00c4655/national-wanna-get-away-day?utm_source=ical&utm_mediu
 m=website&utm_campaign=none.
URL:https://www.checkiday.com/931a41b31778f86658742f79c00c4655/national-wan
 na-get-away-day?utm_source=ical&utm_medium=website&utm_campaign=none
END:VEVENT
BEGIN:VEVENT
UID:931a41b31778f86658742f79c00c4655-20280618
DTSTAMP:20260419T173042Z
DTSTART;VALUE=DATE:20280618
SUMMARY:National Wanna Get Away Day
DESCRIPTION:Find more information at https://www.checkiday.com/931a41b31778
 f86658742f79c00c4655/national-wanna-get-away-day?utm_source=ical&utm_mediu
 m=website&utm_campaign=none.
URL:https://www.checkiday.com/931a41b31778f86658742f79c00c4655/national-wan
 na-get-away-day?utm_source=ical&utm_medium=website&utm_campaign=none
END:VEVENT
END:VCALENDAR
