BEGIN:VCALENDAR
VERSION:2.0
CALSCALE:GREGORIAN
PRODID:-//Westy92 LLC//NONSGML Checkiday//EN
X-PUBLISHED-TTL:PT12H
X-WR-CALNAME:Checkiday.com - World Dream Day
X-WR-CALDESC:A daily updated list of today's holidays, most of which you wo
 n't find on a calendar! This feed is for personal use only. For other uses
 , please email us at checkiday@checkiday.com.
BEGIN:VEVENT
UID:9250168aedd3223b5474985f2d2363d0-20240925
DTSTAMP:20260420T211956Z
DTSTART;VALUE=DATE:20240925
SUMMARY:World Dream Day
DESCRIPTION:Find more information at https://www.checkiday.com/9250168aedd3
 223b5474985f2d2363d0/world-dream-day?utm_source=ical&utm_medium=website&ut
 m_campaign=none.
URL:https://www.checkiday.com/9250168aedd3223b5474985f2d2363d0/world-dream-
 day?utm_source=ical&utm_medium=website&utm_campaign=none
END:VEVENT
BEGIN:VEVENT
UID:9250168aedd3223b5474985f2d2363d0-20250925
DTSTAMP:20260420T211956Z
DTSTART;VALUE=DATE:20250925
SUMMARY:World Dream Day
DESCRIPTION:Find more information at https://www.checkiday.com/9250168aedd3
 223b5474985f2d2363d0/world-dream-day?utm_source=ical&utm_medium=website&ut
 m_campaign=none.
URL:https://www.checkiday.com/9250168aedd3223b5474985f2d2363d0/world-dream-
 day?utm_source=ical&utm_medium=website&utm_campaign=none
END:VEVENT
BEGIN:VEVENT
UID:9250168aedd3223b5474985f2d2363d0-20260925
DTSTAMP:20260420T211956Z
DTSTART;VALUE=DATE:20260925
SUMMARY:World Dream Day
DESCRIPTION:Find more information at https://www.checkiday.com/9250168aedd3
 223b5474985f2d2363d0/world-dream-day?utm_source=ical&utm_medium=website&ut
 m_campaign=none.
URL:https://www.checkiday.com/9250168aedd3223b5474985f2d2363d0/world-dream-
 day?utm_source=ical&utm_medium=website&utm_campaign=none
END:VEVENT
BEGIN:VEVENT
UID:9250168aedd3223b5474985f2d2363d0-20270925
DTSTAMP:20260420T211956Z
DTSTART;VALUE=DATE:20270925
SUMMARY:World Dream Day
DESCRIPTION:Find more information at https://www.checkiday.com/9250168aedd3
 223b5474985f2d2363d0/world-dream-day?utm_source=ical&utm_medium=website&ut
 m_campaign=none.
URL:https://www.checkiday.com/9250168aedd3223b5474985f2d2363d0/world-dream-
 day?utm_source=ical&utm_medium=website&utm_campaign=none
END:VEVENT
BEGIN:VEVENT
UID:9250168aedd3223b5474985f2d2363d0-20280925
DTSTAMP:20260420T211956Z
DTSTART;VALUE=DATE:20280925
SUMMARY:World Dream Day
DESCRIPTION:Find more information at https://www.checkiday.com/9250168aedd3
 223b5474985f2d2363d0/world-dream-day?utm_source=ical&utm_medium=website&ut
 m_campaign=none.
URL:https://www.checkiday.com/9250168aedd3223b5474985f2d2363d0/world-dream-
 day?utm_source=ical&utm_medium=website&utm_campaign=none
END:VEVENT
END:VCALENDAR
