BEGIN:VCALENDAR
VERSION:2.0
CALSCALE:GREGORIAN
PRODID:-//Westy92 LLC//NONSGML Checkiday//EN
X-PUBLISHED-TTL:PT12H
X-WR-CALNAME:Checkiday.com - Phileas Fogg Wins a Wager Day
X-WR-CALDESC:A daily updated list of today's holidays, most of which you wo
 n't find on a calendar! This feed is for personal use only. For other uses
 , please email us at checkiday@checkiday.com.
BEGIN:VEVENT
UID:9019373cf87922e0b72ed27f402b3137-20241221
DTSTAMP:20260421T125348Z
DTSTART;VALUE=DATE:20241221
SUMMARY:Phileas Fogg Wins a Wager Day
DESCRIPTION:Find more information at https://www.checkiday.com/9019373cf879
 22e0b72ed27f402b3137/phileas-fogg-wins-a-wager-day?utm_source=ical&utm_med
 ium=website&utm_campaign=none.
URL:https://www.checkiday.com/9019373cf87922e0b72ed27f402b3137/phileas-fogg
 -wins-a-wager-day?utm_source=ical&utm_medium=website&utm_campaign=none
END:VEVENT
BEGIN:VEVENT
UID:9019373cf87922e0b72ed27f402b3137-20251221
DTSTAMP:20260421T125348Z
DTSTART;VALUE=DATE:20251221
SUMMARY:Phileas Fogg Wins a Wager Day
DESCRIPTION:Find more information at https://www.checkiday.com/9019373cf879
 22e0b72ed27f402b3137/phileas-fogg-wins-a-wager-day?utm_source=ical&utm_med
 ium=website&utm_campaign=none.
URL:https://www.checkiday.com/9019373cf87922e0b72ed27f402b3137/phileas-fogg
 -wins-a-wager-day?utm_source=ical&utm_medium=website&utm_campaign=none
END:VEVENT
BEGIN:VEVENT
UID:9019373cf87922e0b72ed27f402b3137-20261221
DTSTAMP:20260421T125348Z
DTSTART;VALUE=DATE:20261221
SUMMARY:Phileas Fogg Wins a Wager Day
DESCRIPTION:Find more information at https://www.checkiday.com/9019373cf879
 22e0b72ed27f402b3137/phileas-fogg-wins-a-wager-day?utm_source=ical&utm_med
 ium=website&utm_campaign=none.
URL:https://www.checkiday.com/9019373cf87922e0b72ed27f402b3137/phileas-fogg
 -wins-a-wager-day?utm_source=ical&utm_medium=website&utm_campaign=none
END:VEVENT
BEGIN:VEVENT
UID:9019373cf87922e0b72ed27f402b3137-20271221
DTSTAMP:20260421T125348Z
DTSTART;VALUE=DATE:20271221
SUMMARY:Phileas Fogg Wins a Wager Day
DESCRIPTION:Find more information at https://www.checkiday.com/9019373cf879
 22e0b72ed27f402b3137/phileas-fogg-wins-a-wager-day?utm_source=ical&utm_med
 ium=website&utm_campaign=none.
URL:https://www.checkiday.com/9019373cf87922e0b72ed27f402b3137/phileas-fogg
 -wins-a-wager-day?utm_source=ical&utm_medium=website&utm_campaign=none
END:VEVENT
BEGIN:VEVENT
UID:9019373cf87922e0b72ed27f402b3137-20281221
DTSTAMP:20260421T125348Z
DTSTART;VALUE=DATE:20281221
SUMMARY:Phileas Fogg Wins a Wager Day
DESCRIPTION:Find more information at https://www.checkiday.com/9019373cf879
 22e0b72ed27f402b3137/phileas-fogg-wins-a-wager-day?utm_source=ical&utm_med
 ium=website&utm_campaign=none.
URL:https://www.checkiday.com/9019373cf87922e0b72ed27f402b3137/phileas-fogg
 -wins-a-wager-day?utm_source=ical&utm_medium=website&utm_campaign=none
END:VEVENT
END:VCALENDAR
