BEGIN:VCALENDAR
VERSION:2.0
CALSCALE:GREGORIAN
PRODID:-//Westy92 LLC//NONSGML Checkiday//EN
X-PUBLISHED-TTL:PT12H
X-WR-CALNAME:Checkiday.com - National Cream Tea Day
X-WR-CALDESC:A daily updated list of today's holidays, most of which you wo
 n't find on a calendar! This feed is for personal use only. For other uses
 , please email us at checkiday@checkiday.com.
BEGIN:VEVENT
UID:8af791e4682f4807316cc296d9ab7483-20240628
DTSTAMP:20260419T202029Z
DTSTART;VALUE=DATE:20240628
SUMMARY:National Cream Tea Day
DESCRIPTION:Find more information at https://www.checkiday.com/8af791e4682f
 4807316cc296d9ab7483/national-cream-tea-day?utm_source=ical&utm_medium=web
 site&utm_campaign=none.
URL:https://www.checkiday.com/8af791e4682f4807316cc296d9ab7483/national-cre
 am-tea-day?utm_source=ical&utm_medium=website&utm_campaign=none
END:VEVENT
BEGIN:VEVENT
UID:8af791e4682f4807316cc296d9ab7483-20250627
DTSTAMP:20260419T202029Z
DTSTART;VALUE=DATE:20250627
SUMMARY:National Cream Tea Day
DESCRIPTION:Find more information at https://www.checkiday.com/8af791e4682f
 4807316cc296d9ab7483/national-cream-tea-day?utm_source=ical&utm_medium=web
 site&utm_campaign=none.
URL:https://www.checkiday.com/8af791e4682f4807316cc296d9ab7483/national-cre
 am-tea-day?utm_source=ical&utm_medium=website&utm_campaign=none
END:VEVENT
BEGIN:VEVENT
UID:8af791e4682f4807316cc296d9ab7483-20260626
DTSTAMP:20260419T202029Z
DTSTART;VALUE=DATE:20260626
SUMMARY:National Cream Tea Day
DESCRIPTION:Find more information at https://www.checkiday.com/8af791e4682f
 4807316cc296d9ab7483/national-cream-tea-day?utm_source=ical&utm_medium=web
 site&utm_campaign=none.
URL:https://www.checkiday.com/8af791e4682f4807316cc296d9ab7483/national-cre
 am-tea-day?utm_source=ical&utm_medium=website&utm_campaign=none
END:VEVENT
BEGIN:VEVENT
UID:8af791e4682f4807316cc296d9ab7483-20270625
DTSTAMP:20260419T202029Z
DTSTART;VALUE=DATE:20270625
SUMMARY:National Cream Tea Day
DESCRIPTION:Find more information at https://www.checkiday.com/8af791e4682f
 4807316cc296d9ab7483/national-cream-tea-day?utm_source=ical&utm_medium=web
 site&utm_campaign=none.
URL:https://www.checkiday.com/8af791e4682f4807316cc296d9ab7483/national-cre
 am-tea-day?utm_source=ical&utm_medium=website&utm_campaign=none
END:VEVENT
BEGIN:VEVENT
UID:8af791e4682f4807316cc296d9ab7483-20280630
DTSTAMP:20260419T202029Z
DTSTART;VALUE=DATE:20280630
SUMMARY:National Cream Tea Day
DESCRIPTION:Find more information at https://www.checkiday.com/8af791e4682f
 4807316cc296d9ab7483/national-cream-tea-day?utm_source=ical&utm_medium=web
 site&utm_campaign=none.
URL:https://www.checkiday.com/8af791e4682f4807316cc296d9ab7483/national-cre
 am-tea-day?utm_source=ical&utm_medium=website&utm_campaign=none
END:VEVENT
END:VCALENDAR
