BEGIN:VCALENDAR
VERSION:2.0
CALSCALE:GREGORIAN
PRODID:-//Westy92 LLC//NONSGML Checkiday//EN
X-PUBLISHED-TTL:PT12H
X-WR-CALNAME:Checkiday.com - National Ambrosia Day
X-WR-CALDESC:A daily updated list of today's holidays, most of which you wo
 n't find on a calendar! This feed is for personal use only. For other uses
 , please email us at checkiday@checkiday.com.
BEGIN:VEVENT
UID:7b17dd428ba47754d83862c6f36c295c-20241212
DTSTAMP:20260419T124911Z
DTSTART;VALUE=DATE:20241212
SUMMARY:National Ambrosia Day
DESCRIPTION:Find more information at https://www.checkiday.com/7b17dd428ba4
 7754d83862c6f36c295c/national-ambrosia-day?utm_source=ical&utm_medium=webs
 ite&utm_campaign=none.
URL:https://www.checkiday.com/7b17dd428ba47754d83862c6f36c295c/national-amb
 rosia-day?utm_source=ical&utm_medium=website&utm_campaign=none
END:VEVENT
BEGIN:VEVENT
UID:7b17dd428ba47754d83862c6f36c295c-20251212
DTSTAMP:20260419T124911Z
DTSTART;VALUE=DATE:20251212
SUMMARY:National Ambrosia Day
DESCRIPTION:Find more information at https://www.checkiday.com/7b17dd428ba4
 7754d83862c6f36c295c/national-ambrosia-day?utm_source=ical&utm_medium=webs
 ite&utm_campaign=none.
URL:https://www.checkiday.com/7b17dd428ba47754d83862c6f36c295c/national-amb
 rosia-day?utm_source=ical&utm_medium=website&utm_campaign=none
END:VEVENT
BEGIN:VEVENT
UID:7b17dd428ba47754d83862c6f36c295c-20261212
DTSTAMP:20260419T124911Z
DTSTART;VALUE=DATE:20261212
SUMMARY:National Ambrosia Day
DESCRIPTION:Find more information at https://www.checkiday.com/7b17dd428ba4
 7754d83862c6f36c295c/national-ambrosia-day?utm_source=ical&utm_medium=webs
 ite&utm_campaign=none.
URL:https://www.checkiday.com/7b17dd428ba47754d83862c6f36c295c/national-amb
 rosia-day?utm_source=ical&utm_medium=website&utm_campaign=none
END:VEVENT
BEGIN:VEVENT
UID:7b17dd428ba47754d83862c6f36c295c-20271212
DTSTAMP:20260419T124911Z
DTSTART;VALUE=DATE:20271212
SUMMARY:National Ambrosia Day
DESCRIPTION:Find more information at https://www.checkiday.com/7b17dd428ba4
 7754d83862c6f36c295c/national-ambrosia-day?utm_source=ical&utm_medium=webs
 ite&utm_campaign=none.
URL:https://www.checkiday.com/7b17dd428ba47754d83862c6f36c295c/national-amb
 rosia-day?utm_source=ical&utm_medium=website&utm_campaign=none
END:VEVENT
BEGIN:VEVENT
UID:7b17dd428ba47754d83862c6f36c295c-20281212
DTSTAMP:20260419T124911Z
DTSTART;VALUE=DATE:20281212
SUMMARY:National Ambrosia Day
DESCRIPTION:Find more information at https://www.checkiday.com/7b17dd428ba4
 7754d83862c6f36c295c/national-ambrosia-day?utm_source=ical&utm_medium=webs
 ite&utm_campaign=none.
URL:https://www.checkiday.com/7b17dd428ba47754d83862c6f36c295c/national-amb
 rosia-day?utm_source=ical&utm_medium=website&utm_campaign=none
END:VEVENT
END:VCALENDAR
