BEGIN:VCALENDAR
VERSION:2.0
CALSCALE:GREGORIAN
PRODID:-//Westy92 LLC//NONSGML Checkiday//EN
X-PUBLISHED-TTL:PT12H
X-WR-CALNAME:Checkiday.com - National Bubbly Day
X-WR-CALDESC:A daily updated list of today's holidays, most of which you wo
 n't find on a calendar! This feed is for personal use only. For other uses
 , please email us at checkiday@checkiday.com.
BEGIN:VEVENT
UID:7114507f08ebd4d1bdc659ef32456abc-20240601
DTSTAMP:20260422T163204Z
DTSTART;VALUE=DATE:20240601
SUMMARY:National Bubbly Day
DESCRIPTION:Find more information at https://www.checkiday.com/7114507f08eb
 d4d1bdc659ef32456abc/national-bubbly-day?utm_source=ical&utm_medium=websit
 e&utm_campaign=none.
URL:https://www.checkiday.com/7114507f08ebd4d1bdc659ef32456abc/national-bub
 bly-day?utm_source=ical&utm_medium=website&utm_campaign=none
END:VEVENT
BEGIN:VEVENT
UID:7114507f08ebd4d1bdc659ef32456abc-20250607
DTSTAMP:20260422T163204Z
DTSTART;VALUE=DATE:20250607
SUMMARY:National Bubbly Day
DESCRIPTION:Find more information at https://www.checkiday.com/7114507f08eb
 d4d1bdc659ef32456abc/national-bubbly-day?utm_source=ical&utm_medium=websit
 e&utm_campaign=none.
URL:https://www.checkiday.com/7114507f08ebd4d1bdc659ef32456abc/national-bub
 bly-day?utm_source=ical&utm_medium=website&utm_campaign=none
END:VEVENT
BEGIN:VEVENT
UID:7114507f08ebd4d1bdc659ef32456abc-20260606
DTSTAMP:20260422T163204Z
DTSTART;VALUE=DATE:20260606
SUMMARY:National Bubbly Day
DESCRIPTION:Find more information at https://www.checkiday.com/7114507f08eb
 d4d1bdc659ef32456abc/national-bubbly-day?utm_source=ical&utm_medium=websit
 e&utm_campaign=none.
URL:https://www.checkiday.com/7114507f08ebd4d1bdc659ef32456abc/national-bub
 bly-day?utm_source=ical&utm_medium=website&utm_campaign=none
END:VEVENT
BEGIN:VEVENT
UID:7114507f08ebd4d1bdc659ef32456abc-20270605
DTSTAMP:20260422T163204Z
DTSTART;VALUE=DATE:20270605
SUMMARY:National Bubbly Day
DESCRIPTION:Find more information at https://www.checkiday.com/7114507f08eb
 d4d1bdc659ef32456abc/national-bubbly-day?utm_source=ical&utm_medium=websit
 e&utm_campaign=none.
URL:https://www.checkiday.com/7114507f08ebd4d1bdc659ef32456abc/national-bub
 bly-day?utm_source=ical&utm_medium=website&utm_campaign=none
END:VEVENT
BEGIN:VEVENT
UID:7114507f08ebd4d1bdc659ef32456abc-20280603
DTSTAMP:20260422T163204Z
DTSTART;VALUE=DATE:20280603
SUMMARY:National Bubbly Day
DESCRIPTION:Find more information at https://www.checkiday.com/7114507f08eb
 d4d1bdc659ef32456abc/national-bubbly-day?utm_source=ical&utm_medium=websit
 e&utm_campaign=none.
URL:https://www.checkiday.com/7114507f08ebd4d1bdc659ef32456abc/national-bub
 bly-day?utm_source=ical&utm_medium=website&utm_campaign=none
END:VEVENT
END:VCALENDAR
