BEGIN:VCALENDAR
VERSION:2.0
CALSCALE:GREGORIAN
PRODID:-//Westy92 LLC//NONSGML Checkiday//EN
X-PUBLISHED-TTL:PT12H
X-WR-CALNAME:Checkiday.com - National Panda Day
X-WR-CALDESC:A daily updated list of today's holidays, most of which you wo
 n't find on a calendar! This feed is for personal use only. For other uses
 , please email us at checkiday@checkiday.com.
BEGIN:VEVENT
UID:6de0250b4a24131605644fe486b2483f-20240316
DTSTAMP:20260422T082323Z
DTSTART;VALUE=DATE:20240316
SUMMARY:National Panda Day
DESCRIPTION:Find more information at https://www.checkiday.com/6de0250b4a24
 131605644fe486b2483f/national-panda-day?utm_source=ical&utm_medium=website
 &utm_campaign=none.
URL:https://www.checkiday.com/6de0250b4a24131605644fe486b2483f/national-pan
 da-day?utm_source=ical&utm_medium=website&utm_campaign=none
END:VEVENT
BEGIN:VEVENT
UID:6de0250b4a24131605644fe486b2483f-20250316
DTSTAMP:20260422T082323Z
DTSTART;VALUE=DATE:20250316
SUMMARY:National Panda Day
DESCRIPTION:Find more information at https://www.checkiday.com/6de0250b4a24
 131605644fe486b2483f/national-panda-day?utm_source=ical&utm_medium=website
 &utm_campaign=none.
URL:https://www.checkiday.com/6de0250b4a24131605644fe486b2483f/national-pan
 da-day?utm_source=ical&utm_medium=website&utm_campaign=none
END:VEVENT
BEGIN:VEVENT
UID:6de0250b4a24131605644fe486b2483f-20260316
DTSTAMP:20260422T082323Z
DTSTART;VALUE=DATE:20260316
SUMMARY:National Panda Day
DESCRIPTION:Find more information at https://www.checkiday.com/6de0250b4a24
 131605644fe486b2483f/national-panda-day?utm_source=ical&utm_medium=website
 &utm_campaign=none.
URL:https://www.checkiday.com/6de0250b4a24131605644fe486b2483f/national-pan
 da-day?utm_source=ical&utm_medium=website&utm_campaign=none
END:VEVENT
BEGIN:VEVENT
UID:6de0250b4a24131605644fe486b2483f-20270316
DTSTAMP:20260422T082323Z
DTSTART;VALUE=DATE:20270316
SUMMARY:National Panda Day
DESCRIPTION:Find more information at https://www.checkiday.com/6de0250b4a24
 131605644fe486b2483f/national-panda-day?utm_source=ical&utm_medium=website
 &utm_campaign=none.
URL:https://www.checkiday.com/6de0250b4a24131605644fe486b2483f/national-pan
 da-day?utm_source=ical&utm_medium=website&utm_campaign=none
END:VEVENT
BEGIN:VEVENT
UID:6de0250b4a24131605644fe486b2483f-20280316
DTSTAMP:20260422T082323Z
DTSTART;VALUE=DATE:20280316
SUMMARY:National Panda Day
DESCRIPTION:Find more information at https://www.checkiday.com/6de0250b4a24
 131605644fe486b2483f/national-panda-day?utm_source=ical&utm_medium=website
 &utm_campaign=none.
URL:https://www.checkiday.com/6de0250b4a24131605644fe486b2483f/national-pan
 da-day?utm_source=ical&utm_medium=website&utm_campaign=none
END:VEVENT
END:VCALENDAR
