BEGIN:VCALENDAR
VERSION:2.0
CALSCALE:GREGORIAN
PRODID:-//Westy92 LLC//NONSGML Checkiday//EN
X-PUBLISHED-TTL:PT12H
X-WR-CALNAME:Checkiday.com - National Inner Beauty Day
X-WR-CALDESC:A daily updated list of today's holidays, most of which you wo
 n't find on a calendar! This feed is for personal use only. For other uses
 , please email us at checkiday@checkiday.com.
BEGIN:VEVENT
UID:6926d90e66ab63e47c68de710430262f-20241007
DTSTAMP:20260421T151035Z
DTSTART;VALUE=DATE:20241007
SUMMARY:National Inner Beauty Day
DESCRIPTION:Find more information at https://www.checkiday.com/6926d90e66ab
 63e47c68de710430262f/national-inner-beauty-day?utm_source=ical&utm_medium=
 website&utm_campaign=none.
URL:https://www.checkiday.com/6926d90e66ab63e47c68de710430262f/national-inn
 er-beauty-day?utm_source=ical&utm_medium=website&utm_campaign=none
END:VEVENT
BEGIN:VEVENT
UID:6926d90e66ab63e47c68de710430262f-20251007
DTSTAMP:20260421T151035Z
DTSTART;VALUE=DATE:20251007
SUMMARY:National Inner Beauty Day
DESCRIPTION:Find more information at https://www.checkiday.com/6926d90e66ab
 63e47c68de710430262f/national-inner-beauty-day?utm_source=ical&utm_medium=
 website&utm_campaign=none.
URL:https://www.checkiday.com/6926d90e66ab63e47c68de710430262f/national-inn
 er-beauty-day?utm_source=ical&utm_medium=website&utm_campaign=none
END:VEVENT
BEGIN:VEVENT
UID:6926d90e66ab63e47c68de710430262f-20261007
DTSTAMP:20260421T151035Z
DTSTART;VALUE=DATE:20261007
SUMMARY:National Inner Beauty Day
DESCRIPTION:Find more information at https://www.checkiday.com/6926d90e66ab
 63e47c68de710430262f/national-inner-beauty-day?utm_source=ical&utm_medium=
 website&utm_campaign=none.
URL:https://www.checkiday.com/6926d90e66ab63e47c68de710430262f/national-inn
 er-beauty-day?utm_source=ical&utm_medium=website&utm_campaign=none
END:VEVENT
BEGIN:VEVENT
UID:6926d90e66ab63e47c68de710430262f-20271007
DTSTAMP:20260421T151035Z
DTSTART;VALUE=DATE:20271007
SUMMARY:National Inner Beauty Day
DESCRIPTION:Find more information at https://www.checkiday.com/6926d90e66ab
 63e47c68de710430262f/national-inner-beauty-day?utm_source=ical&utm_medium=
 website&utm_campaign=none.
URL:https://www.checkiday.com/6926d90e66ab63e47c68de710430262f/national-inn
 er-beauty-day?utm_source=ical&utm_medium=website&utm_campaign=none
END:VEVENT
BEGIN:VEVENT
UID:6926d90e66ab63e47c68de710430262f-20281007
DTSTAMP:20260421T151035Z
DTSTART;VALUE=DATE:20281007
SUMMARY:National Inner Beauty Day
DESCRIPTION:Find more information at https://www.checkiday.com/6926d90e66ab
 63e47c68de710430262f/national-inner-beauty-day?utm_source=ical&utm_medium=
 website&utm_campaign=none.
URL:https://www.checkiday.com/6926d90e66ab63e47c68de710430262f/national-inn
 er-beauty-day?utm_source=ical&utm_medium=website&utm_campaign=none
END:VEVENT
END:VCALENDAR
