BEGIN:VCALENDAR
VERSION:2.0
CALSCALE:GREGORIAN
PRODID:-//Westy92 LLC//NONSGML Checkiday//EN
X-PUBLISHED-TTL:PT12H
X-WR-CALNAME:Checkiday.com - National Backyard Day
X-WR-CALDESC:A daily updated list of today's holidays, most of which you wo
 n't find on a calendar! This feed is for personal use only. For other uses
 , please email us at checkiday@checkiday.com.
BEGIN:VEVENT
UID:6505563b4cf080b534765a04586708f3-20240319
DTSTAMP:20260420T155639Z
DTSTART;VALUE=DATE:20240319
SUMMARY:National Backyard Day
DESCRIPTION:Find more information at https://www.checkiday.com/6505563b4cf0
 80b534765a04586708f3/national-backyard-day?utm_source=ical&utm_medium=webs
 ite&utm_campaign=none.
URL:https://www.checkiday.com/6505563b4cf080b534765a04586708f3/national-bac
 kyard-day?utm_source=ical&utm_medium=website&utm_campaign=none
END:VEVENT
BEGIN:VEVENT
UID:6505563b4cf080b534765a04586708f3-20250319
DTSTAMP:20260420T155639Z
DTSTART;VALUE=DATE:20250319
SUMMARY:National Backyard Day
DESCRIPTION:Find more information at https://www.checkiday.com/6505563b4cf0
 80b534765a04586708f3/national-backyard-day?utm_source=ical&utm_medium=webs
 ite&utm_campaign=none.
URL:https://www.checkiday.com/6505563b4cf080b534765a04586708f3/national-bac
 kyard-day?utm_source=ical&utm_medium=website&utm_campaign=none
END:VEVENT
BEGIN:VEVENT
UID:6505563b4cf080b534765a04586708f3-20260319
DTSTAMP:20260420T155639Z
DTSTART;VALUE=DATE:20260319
SUMMARY:National Backyard Day
DESCRIPTION:Find more information at https://www.checkiday.com/6505563b4cf0
 80b534765a04586708f3/national-backyard-day?utm_source=ical&utm_medium=webs
 ite&utm_campaign=none.
URL:https://www.checkiday.com/6505563b4cf080b534765a04586708f3/national-bac
 kyard-day?utm_source=ical&utm_medium=website&utm_campaign=none
END:VEVENT
BEGIN:VEVENT
UID:6505563b4cf080b534765a04586708f3-20270319
DTSTAMP:20260420T155639Z
DTSTART;VALUE=DATE:20270319
SUMMARY:National Backyard Day
DESCRIPTION:Find more information at https://www.checkiday.com/6505563b4cf0
 80b534765a04586708f3/national-backyard-day?utm_source=ical&utm_medium=webs
 ite&utm_campaign=none.
URL:https://www.checkiday.com/6505563b4cf080b534765a04586708f3/national-bac
 kyard-day?utm_source=ical&utm_medium=website&utm_campaign=none
END:VEVENT
BEGIN:VEVENT
UID:6505563b4cf080b534765a04586708f3-20280319
DTSTAMP:20260420T155639Z
DTSTART;VALUE=DATE:20280319
SUMMARY:National Backyard Day
DESCRIPTION:Find more information at https://www.checkiday.com/6505563b4cf0
 80b534765a04586708f3/national-backyard-day?utm_source=ical&utm_medium=webs
 ite&utm_campaign=none.
URL:https://www.checkiday.com/6505563b4cf080b534765a04586708f3/national-bac
 kyard-day?utm_source=ical&utm_medium=website&utm_campaign=none
END:VEVENT
END:VCALENDAR
