BEGIN:VCALENDAR
VERSION:2.0
CALSCALE:GREGORIAN
PRODID:-//Westy92 LLC//NONSGML Checkiday//EN
X-PUBLISHED-TTL:PT12H
X-WR-CALNAME:Checkiday.com - National Drowning Prevention Day
X-WR-CALDESC:A daily updated list of today's holidays, most of which you wo
 n't find on a calendar! This feed is for personal use only. For other uses
 , please email us at checkiday@checkiday.com.
BEGIN:VEVENT
UID:5f9f63b0d4c9717c6c5d8de5cca2d38f-20240727
DTSTAMP:20260421T185552Z
DTSTART;VALUE=DATE:20240727
SUMMARY:National Drowning Prevention Day
DESCRIPTION:Find more information at https://www.checkiday.com/5f9f63b0d4c9
 717c6c5d8de5cca2d38f/national-drowning-prevention-day?utm_source=ical&utm_
 medium=website&utm_campaign=none.
URL:https://www.checkiday.com/5f9f63b0d4c9717c6c5d8de5cca2d38f/national-dro
 wning-prevention-day?utm_source=ical&utm_medium=website&utm_campaign=none
END:VEVENT
BEGIN:VEVENT
UID:5f9f63b0d4c9717c6c5d8de5cca2d38f-20250726
DTSTAMP:20260421T185552Z
DTSTART;VALUE=DATE:20250726
SUMMARY:National Drowning Prevention Day
DESCRIPTION:Find more information at https://www.checkiday.com/5f9f63b0d4c9
 717c6c5d8de5cca2d38f/national-drowning-prevention-day?utm_source=ical&utm_
 medium=website&utm_campaign=none.
URL:https://www.checkiday.com/5f9f63b0d4c9717c6c5d8de5cca2d38f/national-dro
 wning-prevention-day?utm_source=ical&utm_medium=website&utm_campaign=none
END:VEVENT
BEGIN:VEVENT
UID:5f9f63b0d4c9717c6c5d8de5cca2d38f-20260725
DTSTAMP:20260421T185552Z
DTSTART;VALUE=DATE:20260725
SUMMARY:National Drowning Prevention Day
DESCRIPTION:Find more information at https://www.checkiday.com/5f9f63b0d4c9
 717c6c5d8de5cca2d38f/national-drowning-prevention-day?utm_source=ical&utm_
 medium=website&utm_campaign=none.
URL:https://www.checkiday.com/5f9f63b0d4c9717c6c5d8de5cca2d38f/national-dro
 wning-prevention-day?utm_source=ical&utm_medium=website&utm_campaign=none
END:VEVENT
BEGIN:VEVENT
UID:5f9f63b0d4c9717c6c5d8de5cca2d38f-20270724
DTSTAMP:20260421T185552Z
DTSTART;VALUE=DATE:20270724
SUMMARY:National Drowning Prevention Day
DESCRIPTION:Find more information at https://www.checkiday.com/5f9f63b0d4c9
 717c6c5d8de5cca2d38f/national-drowning-prevention-day?utm_source=ical&utm_
 medium=website&utm_campaign=none.
URL:https://www.checkiday.com/5f9f63b0d4c9717c6c5d8de5cca2d38f/national-dro
 wning-prevention-day?utm_source=ical&utm_medium=website&utm_campaign=none
END:VEVENT
BEGIN:VEVENT
UID:5f9f63b0d4c9717c6c5d8de5cca2d38f-20280722
DTSTAMP:20260421T185552Z
DTSTART;VALUE=DATE:20280722
SUMMARY:National Drowning Prevention Day
DESCRIPTION:Find more information at https://www.checkiday.com/5f9f63b0d4c9
 717c6c5d8de5cca2d38f/national-drowning-prevention-day?utm_source=ical&utm_
 medium=website&utm_campaign=none.
URL:https://www.checkiday.com/5f9f63b0d4c9717c6c5d8de5cca2d38f/national-dro
 wning-prevention-day?utm_source=ical&utm_medium=website&utm_campaign=none
END:VEVENT
END:VCALENDAR
