BEGIN:VCALENDAR
VERSION:2.0
CALSCALE:GREGORIAN
PRODID:-//Westy92 LLC//NONSGML Checkiday//EN
X-PUBLISHED-TTL:PT12H
X-WR-CALNAME:Checkiday.com - United Nations Decade on Combating Sand and Du
 st Storms
X-WR-CALDESC:A daily updated list of today's holidays, most of which you wo
 n't find on a calendar! This feed is for personal use only. For other uses
 , please email us at checkiday@checkiday.com.
BEGIN:VEVENT
UID:5ad3b1c7b2719de8c0ba608fa35bd2b5-20250101
DTSTAMP:20260420T020004Z
DTSTART;VALUE=DATE:20250101
DTEND;VALUE=DATE:20341231
SUMMARY:United Nations Decade on Combating Sand and Dust Storms
DESCRIPTION:Find more information at https://www.checkiday.com/5ad3b1c7b271
 9de8c0ba608fa35bd2b5/united-nations-decade-on-combating-sand-and-dust-stor
 ms?utm_source=ical&utm_medium=website&utm_campaign=none.
URL:https://www.checkiday.com/5ad3b1c7b2719de8c0ba608fa35bd2b5/united-natio
 ns-decade-on-combating-sand-and-dust-storms?utm_source=ical&utm_medium=web
 site&utm_campaign=none
END:VEVENT
END:VCALENDAR
