BEGIN:VCALENDAR
VERSION:2.0
CALSCALE:GREGORIAN
PRODID:-//Westy92 LLC//NONSGML Checkiday//EN
X-PUBLISHED-TTL:PT12H
X-WR-CALNAME:Checkiday.com - Lupus Alert Day
X-WR-CALDESC:A daily updated list of today's holidays, most of which you wo
 n't find on a calendar! This feed is for personal use only. For other uses
 , please email us at checkiday@checkiday.com.
BEGIN:VEVENT
UID:4fdba44a6b1881ce46339df3920b4649-20240401
DTSTAMP:20260425T211443Z
DTSTART;VALUE=DATE:20240401
SUMMARY:Lupus Alert Day
DESCRIPTION:Find more information at https://www.checkiday.com/4fdba44a6b18
 81ce46339df3920b4649/lupus-alert-day?utm_source=ical&utm_medium=website&ut
 m_campaign=none.
URL:https://www.checkiday.com/4fdba44a6b1881ce46339df3920b4649/lupus-alert-
 day?utm_source=ical&utm_medium=website&utm_campaign=none
END:VEVENT
BEGIN:VEVENT
UID:4fdba44a6b1881ce46339df3920b4649-20250401
DTSTAMP:20260425T211443Z
DTSTART;VALUE=DATE:20250401
SUMMARY:Lupus Alert Day
DESCRIPTION:Find more information at https://www.checkiday.com/4fdba44a6b18
 81ce46339df3920b4649/lupus-alert-day?utm_source=ical&utm_medium=website&ut
 m_campaign=none.
URL:https://www.checkiday.com/4fdba44a6b1881ce46339df3920b4649/lupus-alert-
 day?utm_source=ical&utm_medium=website&utm_campaign=none
END:VEVENT
BEGIN:VEVENT
UID:4fdba44a6b1881ce46339df3920b4649-20260401
DTSTAMP:20260425T211443Z
DTSTART;VALUE=DATE:20260401
SUMMARY:Lupus Alert Day
DESCRIPTION:Find more information at https://www.checkiday.com/4fdba44a6b18
 81ce46339df3920b4649/lupus-alert-day?utm_source=ical&utm_medium=website&ut
 m_campaign=none.
URL:https://www.checkiday.com/4fdba44a6b1881ce46339df3920b4649/lupus-alert-
 day?utm_source=ical&utm_medium=website&utm_campaign=none
END:VEVENT
BEGIN:VEVENT
UID:4fdba44a6b1881ce46339df3920b4649-20270401
DTSTAMP:20260425T211443Z
DTSTART;VALUE=DATE:20270401
SUMMARY:Lupus Alert Day
DESCRIPTION:Find more information at https://www.checkiday.com/4fdba44a6b18
 81ce46339df3920b4649/lupus-alert-day?utm_source=ical&utm_medium=website&ut
 m_campaign=none.
URL:https://www.checkiday.com/4fdba44a6b1881ce46339df3920b4649/lupus-alert-
 day?utm_source=ical&utm_medium=website&utm_campaign=none
END:VEVENT
BEGIN:VEVENT
UID:4fdba44a6b1881ce46339df3920b4649-20280401
DTSTAMP:20260425T211443Z
DTSTART;VALUE=DATE:20280401
SUMMARY:Lupus Alert Day
DESCRIPTION:Find more information at https://www.checkiday.com/4fdba44a6b18
 81ce46339df3920b4649/lupus-alert-day?utm_source=ical&utm_medium=website&ut
 m_campaign=none.
URL:https://www.checkiday.com/4fdba44a6b1881ce46339df3920b4649/lupus-alert-
 day?utm_source=ical&utm_medium=website&utm_campaign=none
END:VEVENT
END:VCALENDAR
