BEGIN:VCALENDAR
VERSION:2.0
CALSCALE:GREGORIAN
PRODID:-//Westy92 LLC//NONSGML Checkiday//EN
X-PUBLISHED-TTL:PT12H
X-WR-CALNAME:Checkiday.com - Decade of Action for Cryospheric Sciences
X-WR-CALDESC:A daily updated list of today's holidays, most of which you wo
 n't find on a calendar! This feed is for personal use only. For other uses
 , please email us at checkiday@checkiday.com.
BEGIN:VEVENT
UID:4d65104f89eb63f4b6ff429325d3471f-20250101
DTSTAMP:20260420T015437Z
DTSTART;VALUE=DATE:20250101
DTEND;VALUE=DATE:20341231
SUMMARY:Decade of Action for Cryospheric Sciences
DESCRIPTION:Find more information at https://www.checkiday.com/4d65104f89eb
 63f4b6ff429325d3471f/decade-of-action-for-cryospheric-sciences?utm_source=
 ical&utm_medium=website&utm_campaign=none.
URL:https://www.checkiday.com/4d65104f89eb63f4b6ff429325d3471f/decade-of-ac
 tion-for-cryospheric-sciences?utm_source=ical&utm_medium=website&utm_campa
 ign=none
END:VEVENT
END:VCALENDAR
