BEGIN:VCALENDAR
VERSION:2.0
CALSCALE:GREGORIAN
PRODID:-//Westy92 LLC//NONSGML Checkiday//EN
X-PUBLISHED-TTL:PT12H
X-WR-CALNAME:Checkiday.com - National Youth Confidence Day
X-WR-CALDESC:A daily updated list of today's holidays, most of which you wo
 n't find on a calendar! This feed is for personal use only. For other uses
 , please email us at checkiday@checkiday.com.
BEGIN:VEVENT
UID:48ae81e9d2e8a2357e42a21ee8a0a849-20241020
DTSTAMP:20260421T190653Z
DTSTART;VALUE=DATE:20241020
SUMMARY:National Youth Confidence Day
DESCRIPTION:Find more information at https://www.checkiday.com/48ae81e9d2e8
 a2357e42a21ee8a0a849/national-youth-confidence-day?utm_source=ical&utm_med
 ium=website&utm_campaign=none.
URL:https://www.checkiday.com/48ae81e9d2e8a2357e42a21ee8a0a849/national-you
 th-confidence-day?utm_source=ical&utm_medium=website&utm_campaign=none
END:VEVENT
BEGIN:VEVENT
UID:48ae81e9d2e8a2357e42a21ee8a0a849-20251020
DTSTAMP:20260421T190653Z
DTSTART;VALUE=DATE:20251020
SUMMARY:National Youth Confidence Day
DESCRIPTION:Find more information at https://www.checkiday.com/48ae81e9d2e8
 a2357e42a21ee8a0a849/national-youth-confidence-day?utm_source=ical&utm_med
 ium=website&utm_campaign=none.
URL:https://www.checkiday.com/48ae81e9d2e8a2357e42a21ee8a0a849/national-you
 th-confidence-day?utm_source=ical&utm_medium=website&utm_campaign=none
END:VEVENT
BEGIN:VEVENT
UID:48ae81e9d2e8a2357e42a21ee8a0a849-20261020
DTSTAMP:20260421T190653Z
DTSTART;VALUE=DATE:20261020
SUMMARY:National Youth Confidence Day
DESCRIPTION:Find more information at https://www.checkiday.com/48ae81e9d2e8
 a2357e42a21ee8a0a849/national-youth-confidence-day?utm_source=ical&utm_med
 ium=website&utm_campaign=none.
URL:https://www.checkiday.com/48ae81e9d2e8a2357e42a21ee8a0a849/national-you
 th-confidence-day?utm_source=ical&utm_medium=website&utm_campaign=none
END:VEVENT
BEGIN:VEVENT
UID:48ae81e9d2e8a2357e42a21ee8a0a849-20271020
DTSTAMP:20260421T190653Z
DTSTART;VALUE=DATE:20271020
SUMMARY:National Youth Confidence Day
DESCRIPTION:Find more information at https://www.checkiday.com/48ae81e9d2e8
 a2357e42a21ee8a0a849/national-youth-confidence-day?utm_source=ical&utm_med
 ium=website&utm_campaign=none.
URL:https://www.checkiday.com/48ae81e9d2e8a2357e42a21ee8a0a849/national-you
 th-confidence-day?utm_source=ical&utm_medium=website&utm_campaign=none
END:VEVENT
BEGIN:VEVENT
UID:48ae81e9d2e8a2357e42a21ee8a0a849-20281020
DTSTAMP:20260421T190653Z
DTSTART;VALUE=DATE:20281020
SUMMARY:National Youth Confidence Day
DESCRIPTION:Find more information at https://www.checkiday.com/48ae81e9d2e8
 a2357e42a21ee8a0a849/national-youth-confidence-day?utm_source=ical&utm_med
 ium=website&utm_campaign=none.
URL:https://www.checkiday.com/48ae81e9d2e8a2357e42a21ee8a0a849/national-you
 th-confidence-day?utm_source=ical&utm_medium=website&utm_campaign=none
END:VEVENT
END:VCALENDAR
