BEGIN:VCALENDAR
VERSION:2.0
CALSCALE:GREGORIAN
PRODID:-//Westy92 LLC//NONSGML Checkiday//EN
X-PUBLISHED-TTL:PT12H
X-WR-CALNAME:Checkiday.com - National Anxiety Disorders Screening Day
X-WR-CALDESC:A daily updated list of today's holidays, most of which you wo
 n't find on a calendar! This feed is for personal use only. For other uses
 , please email us at checkiday@checkiday.com.
BEGIN:VEVENT
UID:48585dc2ed890f0d2a34337280686df8-20240501
DTSTAMP:20260423T104044Z
DTSTART;VALUE=DATE:20240501
SUMMARY:National Anxiety Disorders Screening Day
DESCRIPTION:Find more information at https://www.checkiday.com/48585dc2ed89
 0f0d2a34337280686df8/national-anxiety-disorders-screening-day?utm_source=i
 cal&utm_medium=website&utm_campaign=none.
URL:https://www.checkiday.com/48585dc2ed890f0d2a34337280686df8/national-anx
 iety-disorders-screening-day?utm_source=ical&utm_medium=website&utm_campai
 gn=none
END:VEVENT
BEGIN:VEVENT
UID:48585dc2ed890f0d2a34337280686df8-20250507
DTSTAMP:20260423T104044Z
DTSTART;VALUE=DATE:20250507
SUMMARY:National Anxiety Disorders Screening Day
DESCRIPTION:Find more information at https://www.checkiday.com/48585dc2ed89
 0f0d2a34337280686df8/national-anxiety-disorders-screening-day?utm_source=i
 cal&utm_medium=website&utm_campaign=none.
URL:https://www.checkiday.com/48585dc2ed890f0d2a34337280686df8/national-anx
 iety-disorders-screening-day?utm_source=ical&utm_medium=website&utm_campai
 gn=none
END:VEVENT
BEGIN:VEVENT
UID:48585dc2ed890f0d2a34337280686df8-20260506
DTSTAMP:20260423T104044Z
DTSTART;VALUE=DATE:20260506
SUMMARY:National Anxiety Disorders Screening Day
DESCRIPTION:Find more information at https://www.checkiday.com/48585dc2ed89
 0f0d2a34337280686df8/national-anxiety-disorders-screening-day?utm_source=i
 cal&utm_medium=website&utm_campaign=none.
URL:https://www.checkiday.com/48585dc2ed890f0d2a34337280686df8/national-anx
 iety-disorders-screening-day?utm_source=ical&utm_medium=website&utm_campai
 gn=none
END:VEVENT
BEGIN:VEVENT
UID:48585dc2ed890f0d2a34337280686df8-20270505
DTSTAMP:20260423T104044Z
DTSTART;VALUE=DATE:20270505
SUMMARY:National Anxiety Disorders Screening Day
DESCRIPTION:Find more information at https://www.checkiday.com/48585dc2ed89
 0f0d2a34337280686df8/national-anxiety-disorders-screening-day?utm_source=i
 cal&utm_medium=website&utm_campaign=none.
URL:https://www.checkiday.com/48585dc2ed890f0d2a34337280686df8/national-anx
 iety-disorders-screening-day?utm_source=ical&utm_medium=website&utm_campai
 gn=none
END:VEVENT
BEGIN:VEVENT
UID:48585dc2ed890f0d2a34337280686df8-20280503
DTSTAMP:20260423T104044Z
DTSTART;VALUE=DATE:20280503
SUMMARY:National Anxiety Disorders Screening Day
DESCRIPTION:Find more information at https://www.checkiday.com/48585dc2ed89
 0f0d2a34337280686df8/national-anxiety-disorders-screening-day?utm_source=i
 cal&utm_medium=website&utm_campaign=none.
URL:https://www.checkiday.com/48585dc2ed890f0d2a34337280686df8/national-anx
 iety-disorders-screening-day?utm_source=ical&utm_medium=website&utm_campai
 gn=none
END:VEVENT
END:VCALENDAR
