BEGIN:VCALENDAR
VERSION:2.0
CALSCALE:GREGORIAN
PRODID:-//Westy92 LLC//NONSGML Checkiday//EN
X-PUBLISHED-TTL:PT12H
X-WR-CALNAME:Checkiday.com - Own Business Day
X-WR-CALDESC:A daily updated list of today's holidays, most of which you wo
 n't find on a calendar! This feed is for personal use only. For other uses
 , please email us at checkiday@checkiday.com.
BEGIN:VEVENT
UID:479da88a8509853a02bad63b655cf970-20241008
DTSTAMP:20260425T023146Z
DTSTART;VALUE=DATE:20241008
SUMMARY:Own Business Day
DESCRIPTION:Find more information at https://www.checkiday.com/479da88a8509
 853a02bad63b655cf970/own-business-day?utm_source=ical&utm_medium=website&u
 tm_campaign=none.
URL:https://www.checkiday.com/479da88a8509853a02bad63b655cf970/own-business
 -day?utm_source=ical&utm_medium=website&utm_campaign=none
END:VEVENT
BEGIN:VEVENT
UID:479da88a8509853a02bad63b655cf970-20251014
DTSTAMP:20260425T023146Z
DTSTART;VALUE=DATE:20251014
SUMMARY:Own Business Day
DESCRIPTION:Find more information at https://www.checkiday.com/479da88a8509
 853a02bad63b655cf970/own-business-day?utm_source=ical&utm_medium=website&u
 tm_campaign=none.
URL:https://www.checkiday.com/479da88a8509853a02bad63b655cf970/own-business
 -day?utm_source=ical&utm_medium=website&utm_campaign=none
END:VEVENT
BEGIN:VEVENT
UID:479da88a8509853a02bad63b655cf970-20261013
DTSTAMP:20260425T023146Z
DTSTART;VALUE=DATE:20261013
SUMMARY:Own Business Day
DESCRIPTION:Find more information at https://www.checkiday.com/479da88a8509
 853a02bad63b655cf970/own-business-day?utm_source=ical&utm_medium=website&u
 tm_campaign=none.
URL:https://www.checkiday.com/479da88a8509853a02bad63b655cf970/own-business
 -day?utm_source=ical&utm_medium=website&utm_campaign=none
END:VEVENT
BEGIN:VEVENT
UID:479da88a8509853a02bad63b655cf970-20271012
DTSTAMP:20260425T023146Z
DTSTART;VALUE=DATE:20271012
SUMMARY:Own Business Day
DESCRIPTION:Find more information at https://www.checkiday.com/479da88a8509
 853a02bad63b655cf970/own-business-day?utm_source=ical&utm_medium=website&u
 tm_campaign=none.
URL:https://www.checkiday.com/479da88a8509853a02bad63b655cf970/own-business
 -day?utm_source=ical&utm_medium=website&utm_campaign=none
END:VEVENT
BEGIN:VEVENT
UID:479da88a8509853a02bad63b655cf970-20281010
DTSTAMP:20260425T023146Z
DTSTART;VALUE=DATE:20281010
SUMMARY:Own Business Day
DESCRIPTION:Find more information at https://www.checkiday.com/479da88a8509
 853a02bad63b655cf970/own-business-day?utm_source=ical&utm_medium=website&u
 tm_campaign=none.
URL:https://www.checkiday.com/479da88a8509853a02bad63b655cf970/own-business
 -day?utm_source=ical&utm_medium=website&utm_campaign=none
END:VEVENT
END:VCALENDAR
