BEGIN:VCALENDAR
VERSION:2.0
CALSCALE:GREGORIAN
PRODID:-//Westy92 LLC//NONSGML Checkiday//EN
X-PUBLISHED-TTL:PT12H
X-WR-CALNAME:Checkiday.com - United Nations Decade for Afforestation and Re
 forestation in line with Sustainable Forest Management
X-WR-CALDESC:A daily updated list of today's holidays, most of which you wo
 n't find on a calendar! This feed is for personal use only. For other uses
 , please email us at checkiday@checkiday.com.
BEGIN:VEVENT
UID:40642ba3e155d52360a771758b168246-20270101
DTSTAMP:20260420T072218Z
DTSTART;VALUE=DATE:20270101
DTEND;VALUE=DATE:20361231
SUMMARY:United Nations Decade for Afforestation and Reforestation in line w
 ith Sustainable Forest Management
DESCRIPTION:Find more information at https://www.checkiday.com/40642ba3e155
 d52360a771758b168246/united-nations-decade-for-afforestation-and-reforesta
 tion-in-line-with-sustainable-forest-management?utm_source=ical&utm_medium
 =website&utm_campaign=none.
URL:https://www.checkiday.com/40642ba3e155d52360a771758b168246/united-natio
 ns-decade-for-afforestation-and-reforestation-in-line-with-sustainable-for
 est-management?utm_source=ical&utm_medium=website&utm_campaign=none
END:VEVENT
END:VCALENDAR
