BEGIN:VCALENDAR
VERSION:2.0
CALSCALE:GREGORIAN
PRODID:-//Westy92 LLC//NONSGML Checkiday//EN
X-PUBLISHED-TTL:PT12H
X-WR-CALNAME:Checkiday.com - National Coconut Day
X-WR-CALDESC:A daily updated list of today's holidays, most of which you wo
 n't find on a calendar! This feed is for personal use only. For other uses
 , please email us at checkiday@checkiday.com.
BEGIN:VEVENT
UID:4027010f9612876ecb52d62b4df12220-20240626
DTSTAMP:20260419T230016Z
DTSTART;VALUE=DATE:20240626
SUMMARY:National Coconut Day
DESCRIPTION:Find more information at https://www.checkiday.com/4027010f9612
 876ecb52d62b4df12220/national-coconut-day?utm_source=ical&utm_medium=websi
 te&utm_campaign=none.
URL:https://www.checkiday.com/4027010f9612876ecb52d62b4df12220/national-coc
 onut-day?utm_source=ical&utm_medium=website&utm_campaign=none
END:VEVENT
BEGIN:VEVENT
UID:4027010f9612876ecb52d62b4df12220-20250626
DTSTAMP:20260419T230016Z
DTSTART;VALUE=DATE:20250626
SUMMARY:National Coconut Day
DESCRIPTION:Find more information at https://www.checkiday.com/4027010f9612
 876ecb52d62b4df12220/national-coconut-day?utm_source=ical&utm_medium=websi
 te&utm_campaign=none.
URL:https://www.checkiday.com/4027010f9612876ecb52d62b4df12220/national-coc
 onut-day?utm_source=ical&utm_medium=website&utm_campaign=none
END:VEVENT
BEGIN:VEVENT
UID:4027010f9612876ecb52d62b4df12220-20260626
DTSTAMP:20260419T230016Z
DTSTART;VALUE=DATE:20260626
SUMMARY:National Coconut Day
DESCRIPTION:Find more information at https://www.checkiday.com/4027010f9612
 876ecb52d62b4df12220/national-coconut-day?utm_source=ical&utm_medium=websi
 te&utm_campaign=none.
URL:https://www.checkiday.com/4027010f9612876ecb52d62b4df12220/national-coc
 onut-day?utm_source=ical&utm_medium=website&utm_campaign=none
END:VEVENT
BEGIN:VEVENT
UID:4027010f9612876ecb52d62b4df12220-20270626
DTSTAMP:20260419T230016Z
DTSTART;VALUE=DATE:20270626
SUMMARY:National Coconut Day
DESCRIPTION:Find more information at https://www.checkiday.com/4027010f9612
 876ecb52d62b4df12220/national-coconut-day?utm_source=ical&utm_medium=websi
 te&utm_campaign=none.
URL:https://www.checkiday.com/4027010f9612876ecb52d62b4df12220/national-coc
 onut-day?utm_source=ical&utm_medium=website&utm_campaign=none
END:VEVENT
BEGIN:VEVENT
UID:4027010f9612876ecb52d62b4df12220-20280626
DTSTAMP:20260419T230016Z
DTSTART;VALUE=DATE:20280626
SUMMARY:National Coconut Day
DESCRIPTION:Find more information at https://www.checkiday.com/4027010f9612
 876ecb52d62b4df12220/national-coconut-day?utm_source=ical&utm_medium=websi
 te&utm_campaign=none.
URL:https://www.checkiday.com/4027010f9612876ecb52d62b4df12220/national-coc
 onut-day?utm_source=ical&utm_medium=website&utm_campaign=none
END:VEVENT
END:VCALENDAR
