BEGIN:VCALENDAR
VERSION:2.0
CALSCALE:GREGORIAN
PRODID:-//Westy92 LLC//NONSGML Checkiday//EN
X-PUBLISHED-TTL:PT12H
X-WR-CALNAME:Checkiday.com - National Wagyu Day
X-WR-CALDESC:A daily updated list of today's holidays, most of which you wo
 n't find on a calendar! This feed is for personal use only. For other uses
 , please email us at checkiday@checkiday.com.
BEGIN:VEVENT
UID:3aa0ed05083ea178ff89d5eba45c3661-20240621
DTSTAMP:20260425T152044Z
DTSTART;VALUE=DATE:20240621
SUMMARY:National Wagyu Day
DESCRIPTION:Find more information at https://www.checkiday.com/3aa0ed05083e
 a178ff89d5eba45c3661/national-wagyu-day?utm_source=ical&utm_medium=website
 &utm_campaign=none.
URL:https://www.checkiday.com/3aa0ed05083ea178ff89d5eba45c3661/national-wag
 yu-day?utm_source=ical&utm_medium=website&utm_campaign=none
END:VEVENT
BEGIN:VEVENT
UID:3aa0ed05083ea178ff89d5eba45c3661-20250621
DTSTAMP:20260425T152044Z
DTSTART;VALUE=DATE:20250621
SUMMARY:National Wagyu Day
DESCRIPTION:Find more information at https://www.checkiday.com/3aa0ed05083e
 a178ff89d5eba45c3661/national-wagyu-day?utm_source=ical&utm_medium=website
 &utm_campaign=none.
URL:https://www.checkiday.com/3aa0ed05083ea178ff89d5eba45c3661/national-wag
 yu-day?utm_source=ical&utm_medium=website&utm_campaign=none
END:VEVENT
BEGIN:VEVENT
UID:3aa0ed05083ea178ff89d5eba45c3661-20260621
DTSTAMP:20260425T152044Z
DTSTART;VALUE=DATE:20260621
SUMMARY:National Wagyu Day
DESCRIPTION:Find more information at https://www.checkiday.com/3aa0ed05083e
 a178ff89d5eba45c3661/national-wagyu-day?utm_source=ical&utm_medium=website
 &utm_campaign=none.
URL:https://www.checkiday.com/3aa0ed05083ea178ff89d5eba45c3661/national-wag
 yu-day?utm_source=ical&utm_medium=website&utm_campaign=none
END:VEVENT
BEGIN:VEVENT
UID:3aa0ed05083ea178ff89d5eba45c3661-20270621
DTSTAMP:20260425T152044Z
DTSTART;VALUE=DATE:20270621
SUMMARY:National Wagyu Day
DESCRIPTION:Find more information at https://www.checkiday.com/3aa0ed05083e
 a178ff89d5eba45c3661/national-wagyu-day?utm_source=ical&utm_medium=website
 &utm_campaign=none.
URL:https://www.checkiday.com/3aa0ed05083ea178ff89d5eba45c3661/national-wag
 yu-day?utm_source=ical&utm_medium=website&utm_campaign=none
END:VEVENT
BEGIN:VEVENT
UID:3aa0ed05083ea178ff89d5eba45c3661-20280621
DTSTAMP:20260425T152044Z
DTSTART;VALUE=DATE:20280621
SUMMARY:National Wagyu Day
DESCRIPTION:Find more information at https://www.checkiday.com/3aa0ed05083e
 a178ff89d5eba45c3661/national-wagyu-day?utm_source=ical&utm_medium=website
 &utm_campaign=none.
URL:https://www.checkiday.com/3aa0ed05083ea178ff89d5eba45c3661/national-wag
 yu-day?utm_source=ical&utm_medium=website&utm_campaign=none
END:VEVENT
END:VCALENDAR
