BEGIN:VCALENDAR
VERSION:2.0
CALSCALE:GREGORIAN
PRODID:-//Westy92 LLC//NONSGML Checkiday//EN
X-PUBLISHED-TTL:PT12H
X-WR-CALNAME:Checkiday.com - National Yellow Bat Day
X-WR-CALDESC:A daily updated list of today's holidays, most of which you wo
 n't find on a calendar! This feed is for personal use only. For other uses
 , please email us at checkiday@checkiday.com.
BEGIN:VEVENT
UID:31dcc73c6264335c611b12aed0a68ac9-20240421
DTSTAMP:20260421T112640Z
DTSTART;VALUE=DATE:20240421
SUMMARY:National Yellow Bat Day
DESCRIPTION:Find more information at https://www.checkiday.com/31dcc73c6264
 335c611b12aed0a68ac9/national-yellow-bat-day?utm_source=ical&utm_medium=we
 bsite&utm_campaign=none.
URL:https://www.checkiday.com/31dcc73c6264335c611b12aed0a68ac9/national-yel
 low-bat-day?utm_source=ical&utm_medium=website&utm_campaign=none
END:VEVENT
BEGIN:VEVENT
UID:31dcc73c6264335c611b12aed0a68ac9-20250421
DTSTAMP:20260421T112640Z
DTSTART;VALUE=DATE:20250421
SUMMARY:National Yellow Bat Day
DESCRIPTION:Find more information at https://www.checkiday.com/31dcc73c6264
 335c611b12aed0a68ac9/national-yellow-bat-day?utm_source=ical&utm_medium=we
 bsite&utm_campaign=none.
URL:https://www.checkiday.com/31dcc73c6264335c611b12aed0a68ac9/national-yel
 low-bat-day?utm_source=ical&utm_medium=website&utm_campaign=none
END:VEVENT
BEGIN:VEVENT
UID:31dcc73c6264335c611b12aed0a68ac9-20260421
DTSTAMP:20260421T112640Z
DTSTART;VALUE=DATE:20260421
SUMMARY:National Yellow Bat Day
DESCRIPTION:Find more information at https://www.checkiday.com/31dcc73c6264
 335c611b12aed0a68ac9/national-yellow-bat-day?utm_source=ical&utm_medium=we
 bsite&utm_campaign=none.
URL:https://www.checkiday.com/31dcc73c6264335c611b12aed0a68ac9/national-yel
 low-bat-day?utm_source=ical&utm_medium=website&utm_campaign=none
END:VEVENT
BEGIN:VEVENT
UID:31dcc73c6264335c611b12aed0a68ac9-20270421
DTSTAMP:20260421T112640Z
DTSTART;VALUE=DATE:20270421
SUMMARY:National Yellow Bat Day
DESCRIPTION:Find more information at https://www.checkiday.com/31dcc73c6264
 335c611b12aed0a68ac9/national-yellow-bat-day?utm_source=ical&utm_medium=we
 bsite&utm_campaign=none.
URL:https://www.checkiday.com/31dcc73c6264335c611b12aed0a68ac9/national-yel
 low-bat-day?utm_source=ical&utm_medium=website&utm_campaign=none
END:VEVENT
BEGIN:VEVENT
UID:31dcc73c6264335c611b12aed0a68ac9-20280421
DTSTAMP:20260421T112640Z
DTSTART;VALUE=DATE:20280421
SUMMARY:National Yellow Bat Day
DESCRIPTION:Find more information at https://www.checkiday.com/31dcc73c6264
 335c611b12aed0a68ac9/national-yellow-bat-day?utm_source=ical&utm_medium=we
 bsite&utm_campaign=none.
URL:https://www.checkiday.com/31dcc73c6264335c611b12aed0a68ac9/national-yel
 low-bat-day?utm_source=ical&utm_medium=website&utm_campaign=none
END:VEVENT
END:VCALENDAR
