BEGIN:VCALENDAR
VERSION:2.0
CALSCALE:GREGORIAN
PRODID:-//Westy92 LLC//NONSGML Checkiday//EN
X-PUBLISHED-TTL:PT12H
X-WR-CALNAME:Checkiday.com - National Legwear Day
X-WR-CALDESC:A daily updated list of today's holidays, most of which you wo
 n't find on a calendar! This feed is for personal use only. For other uses
 , please email us at checkiday@checkiday.com.
BEGIN:VEVENT
UID:2a53d4ebaf0cbbbd0299acaae275c008-20240922
DTSTAMP:20260420T165421Z
DTSTART;VALUE=DATE:20240922
SUMMARY:National Legwear Day
DESCRIPTION:Find more information at https://www.checkiday.com/2a53d4ebaf0c
 bbbd0299acaae275c008/national-legwear-day?utm_source=ical&utm_medium=websi
 te&utm_campaign=none.
URL:https://www.checkiday.com/2a53d4ebaf0cbbbd0299acaae275c008/national-leg
 wear-day?utm_source=ical&utm_medium=website&utm_campaign=none
END:VEVENT
BEGIN:VEVENT
UID:2a53d4ebaf0cbbbd0299acaae275c008-20250922
DTSTAMP:20260420T165421Z
DTSTART;VALUE=DATE:20250922
SUMMARY:National Legwear Day
DESCRIPTION:Find more information at https://www.checkiday.com/2a53d4ebaf0c
 bbbd0299acaae275c008/national-legwear-day?utm_source=ical&utm_medium=websi
 te&utm_campaign=none.
URL:https://www.checkiday.com/2a53d4ebaf0cbbbd0299acaae275c008/national-leg
 wear-day?utm_source=ical&utm_medium=website&utm_campaign=none
END:VEVENT
BEGIN:VEVENT
UID:2a53d4ebaf0cbbbd0299acaae275c008-20260922
DTSTAMP:20260420T165421Z
DTSTART;VALUE=DATE:20260922
SUMMARY:National Legwear Day
DESCRIPTION:Find more information at https://www.checkiday.com/2a53d4ebaf0c
 bbbd0299acaae275c008/national-legwear-day?utm_source=ical&utm_medium=websi
 te&utm_campaign=none.
URL:https://www.checkiday.com/2a53d4ebaf0cbbbd0299acaae275c008/national-leg
 wear-day?utm_source=ical&utm_medium=website&utm_campaign=none
END:VEVENT
BEGIN:VEVENT
UID:2a53d4ebaf0cbbbd0299acaae275c008-20270922
DTSTAMP:20260420T165421Z
DTSTART;VALUE=DATE:20270922
SUMMARY:National Legwear Day
DESCRIPTION:Find more information at https://www.checkiday.com/2a53d4ebaf0c
 bbbd0299acaae275c008/national-legwear-day?utm_source=ical&utm_medium=websi
 te&utm_campaign=none.
URL:https://www.checkiday.com/2a53d4ebaf0cbbbd0299acaae275c008/national-leg
 wear-day?utm_source=ical&utm_medium=website&utm_campaign=none
END:VEVENT
BEGIN:VEVENT
UID:2a53d4ebaf0cbbbd0299acaae275c008-20280922
DTSTAMP:20260420T165421Z
DTSTART;VALUE=DATE:20280922
SUMMARY:National Legwear Day
DESCRIPTION:Find more information at https://www.checkiday.com/2a53d4ebaf0c
 bbbd0299acaae275c008/national-legwear-day?utm_source=ical&utm_medium=websi
 te&utm_campaign=none.
URL:https://www.checkiday.com/2a53d4ebaf0cbbbd0299acaae275c008/national-leg
 wear-day?utm_source=ical&utm_medium=website&utm_campaign=none
END:VEVENT
END:VCALENDAR
