BEGIN:VCALENDAR
VERSION:2.0
CALSCALE:GREGORIAN
PRODID:-//Westy92 LLC//NONSGML Checkiday//EN
X-PUBLISHED-TTL:PT12H
X-WR-CALNAME:Checkiday.com - National I Care About You Day
X-WR-CALDESC:A daily updated list of today's holidays, most of which you wo
 n't find on a calendar! This feed is for personal use only. For other uses
 , please email us at checkiday@checkiday.com.
BEGIN:VEVENT
UID:1cdc5759bb0a731ac8d1a529ea1a6022-20241025
DTSTAMP:20260421T112522Z
DTSTART;VALUE=DATE:20241025
SUMMARY:National I Care About You Day
DESCRIPTION:Find more information at https://www.checkiday.com/1cdc5759bb0a
 731ac8d1a529ea1a6022/national-i-care-about-you-day?utm_source=ical&utm_med
 ium=website&utm_campaign=none.
URL:https://www.checkiday.com/1cdc5759bb0a731ac8d1a529ea1a6022/national-i-c
 are-about-you-day?utm_source=ical&utm_medium=website&utm_campaign=none
END:VEVENT
BEGIN:VEVENT
UID:1cdc5759bb0a731ac8d1a529ea1a6022-20251025
DTSTAMP:20260421T112522Z
DTSTART;VALUE=DATE:20251025
SUMMARY:National I Care About You Day
DESCRIPTION:Find more information at https://www.checkiday.com/1cdc5759bb0a
 731ac8d1a529ea1a6022/national-i-care-about-you-day?utm_source=ical&utm_med
 ium=website&utm_campaign=none.
URL:https://www.checkiday.com/1cdc5759bb0a731ac8d1a529ea1a6022/national-i-c
 are-about-you-day?utm_source=ical&utm_medium=website&utm_campaign=none
END:VEVENT
BEGIN:VEVENT
UID:1cdc5759bb0a731ac8d1a529ea1a6022-20261025
DTSTAMP:20260421T112522Z
DTSTART;VALUE=DATE:20261025
SUMMARY:National I Care About You Day
DESCRIPTION:Find more information at https://www.checkiday.com/1cdc5759bb0a
 731ac8d1a529ea1a6022/national-i-care-about-you-day?utm_source=ical&utm_med
 ium=website&utm_campaign=none.
URL:https://www.checkiday.com/1cdc5759bb0a731ac8d1a529ea1a6022/national-i-c
 are-about-you-day?utm_source=ical&utm_medium=website&utm_campaign=none
END:VEVENT
BEGIN:VEVENT
UID:1cdc5759bb0a731ac8d1a529ea1a6022-20271025
DTSTAMP:20260421T112522Z
DTSTART;VALUE=DATE:20271025
SUMMARY:National I Care About You Day
DESCRIPTION:Find more information at https://www.checkiday.com/1cdc5759bb0a
 731ac8d1a529ea1a6022/national-i-care-about-you-day?utm_source=ical&utm_med
 ium=website&utm_campaign=none.
URL:https://www.checkiday.com/1cdc5759bb0a731ac8d1a529ea1a6022/national-i-c
 are-about-you-day?utm_source=ical&utm_medium=website&utm_campaign=none
END:VEVENT
BEGIN:VEVENT
UID:1cdc5759bb0a731ac8d1a529ea1a6022-20281025
DTSTAMP:20260421T112522Z
DTSTART;VALUE=DATE:20281025
SUMMARY:National I Care About You Day
DESCRIPTION:Find more information at https://www.checkiday.com/1cdc5759bb0a
 731ac8d1a529ea1a6022/national-i-care-about-you-day?utm_source=ical&utm_med
 ium=website&utm_campaign=none.
URL:https://www.checkiday.com/1cdc5759bb0a731ac8d1a529ea1a6022/national-i-c
 are-about-you-day?utm_source=ical&utm_medium=website&utm_campaign=none
END:VEVENT
END:VCALENDAR
