BEGIN:VCALENDAR
VERSION:2.0
CALSCALE:GREGORIAN
PRODID:-//Westy92 LLC//NONSGML Checkiday//EN
X-PUBLISHED-TTL:PT12H
X-WR-CALNAME:Checkiday.com - National Tortilla Day
X-WR-CALDESC:A daily updated list of today's holidays, most of which you wo
 n't find on a calendar! This feed is for personal use only. For other uses
 , please email us at checkiday@checkiday.com.
BEGIN:VEVENT
UID:17edf29674b94f9ebd21a493136166b6-20240616
DTSTAMP:20260419T195932Z
DTSTART;VALUE=DATE:20240616
SUMMARY:National Tortilla Day
DESCRIPTION:Find more information at https://www.checkiday.com/17edf29674b9
 4f9ebd21a493136166b6/national-tortilla-day?utm_source=ical&utm_medium=webs
 ite&utm_campaign=none.
URL:https://www.checkiday.com/17edf29674b94f9ebd21a493136166b6/national-tor
 tilla-day?utm_source=ical&utm_medium=website&utm_campaign=none
END:VEVENT
BEGIN:VEVENT
UID:17edf29674b94f9ebd21a493136166b6-20250616
DTSTAMP:20260419T195932Z
DTSTART;VALUE=DATE:20250616
SUMMARY:National Tortilla Day
DESCRIPTION:Find more information at https://www.checkiday.com/17edf29674b9
 4f9ebd21a493136166b6/national-tortilla-day?utm_source=ical&utm_medium=webs
 ite&utm_campaign=none.
URL:https://www.checkiday.com/17edf29674b94f9ebd21a493136166b6/national-tor
 tilla-day?utm_source=ical&utm_medium=website&utm_campaign=none
END:VEVENT
BEGIN:VEVENT
UID:17edf29674b94f9ebd21a493136166b6-20260616
DTSTAMP:20260419T195932Z
DTSTART;VALUE=DATE:20260616
SUMMARY:National Tortilla Day
DESCRIPTION:Find more information at https://www.checkiday.com/17edf29674b9
 4f9ebd21a493136166b6/national-tortilla-day?utm_source=ical&utm_medium=webs
 ite&utm_campaign=none.
URL:https://www.checkiday.com/17edf29674b94f9ebd21a493136166b6/national-tor
 tilla-day?utm_source=ical&utm_medium=website&utm_campaign=none
END:VEVENT
BEGIN:VEVENT
UID:17edf29674b94f9ebd21a493136166b6-20270616
DTSTAMP:20260419T195932Z
DTSTART;VALUE=DATE:20270616
SUMMARY:National Tortilla Day
DESCRIPTION:Find more information at https://www.checkiday.com/17edf29674b9
 4f9ebd21a493136166b6/national-tortilla-day?utm_source=ical&utm_medium=webs
 ite&utm_campaign=none.
URL:https://www.checkiday.com/17edf29674b94f9ebd21a493136166b6/national-tor
 tilla-day?utm_source=ical&utm_medium=website&utm_campaign=none
END:VEVENT
BEGIN:VEVENT
UID:17edf29674b94f9ebd21a493136166b6-20280616
DTSTAMP:20260419T195932Z
DTSTART;VALUE=DATE:20280616
SUMMARY:National Tortilla Day
DESCRIPTION:Find more information at https://www.checkiday.com/17edf29674b9
 4f9ebd21a493136166b6/national-tortilla-day?utm_source=ical&utm_medium=webs
 ite&utm_campaign=none.
URL:https://www.checkiday.com/17edf29674b94f9ebd21a493136166b6/national-tor
 tilla-day?utm_source=ical&utm_medium=website&utm_campaign=none
END:VEVENT
END:VCALENDAR
